BEGIN:VCALENDAR
VERSION:2.0
PRODID:-//St Rose of Lima Church - ECPv6.15.20//NONSGML v1.0//EN
CALSCALE:GREGORIAN
METHOD:PUBLISH
X-ORIGINAL-URL:https://stroseoflimaparish.org
X-WR-CALDESC:Events for St Rose of Lima Church
REFRESH-INTERVAL;VALUE=DURATION:PT1H
X-Robots-Tag:noindex
X-PUBLISHED-TTL:PT1H
BEGIN:VTIMEZONE
TZID:America/New_York
BEGIN:DAYLIGHT
TZOFFSETFROM:-0500
TZOFFSETTO:-0400
TZNAME:EDT
DTSTART:20240310T070000
END:DAYLIGHT
BEGIN:STANDARD
TZOFFSETFROM:-0400
TZOFFSETTO:-0500
TZNAME:EST
DTSTART:20241103T060000
END:STANDARD
BEGIN:DAYLIGHT
TZOFFSETFROM:-0500
TZOFFSETTO:-0400
TZNAME:EDT
DTSTART:20250309T070000
END:DAYLIGHT
BEGIN:STANDARD
TZOFFSETFROM:-0400
TZOFFSETTO:-0500
TZNAME:EST
DTSTART:20251102T060000
END:STANDARD
BEGIN:DAYLIGHT
TZOFFSETFROM:-0500
TZOFFSETTO:-0400
TZNAME:EDT
DTSTART:20260308T070000
END:DAYLIGHT
BEGIN:STANDARD
TZOFFSETFROM:-0400
TZOFFSETTO:-0500
TZNAME:EST
DTSTART:20261101T060000
END:STANDARD
END:VTIMEZONE
BEGIN:VEVENT
DTSTART;TZID=America/New_York:20250723T130000
DTEND;TZID=America/New_York:20250723T140000
DTSTAMP:20260420T055104
CREATED:20240329T152440Z
LAST-MODIFIED:20250926T142711Z
UID:10001972-1753275600-1753279200@stroseoflimaparish.org
SUMMARY:Al-Anon Meeting
DESCRIPTION:Meeting at the Fr. Graham Center meeting room.
URL:https://stroseoflimaparish.org/event/al-anon-meeting/2025-07-23
END:VEVENT
BEGIN:VEVENT
DTSTART;TZID=America/New_York:20250723T193000
DTEND;TZID=America/New_York:20250723T213000
DTSTAMP:20260420T055104
CREATED:20240429T145857Z
LAST-MODIFIED:20250310T191458Z
UID:10002941-1753299000-1753306200@stroseoflimaparish.org
SUMMARY:A Place for Hope
DESCRIPTION:Bereavement Group – contact Outreach for info
URL:https://stroseoflimaparish.org/event/a-place-for-hope/2025-07-23
END:VEVENT
END:VCALENDAR