BEGIN:VCALENDAR
VERSION:2.0
PRODID:-//St Rose of Lima Church - ECPv6.15.20//NONSGML v1.0//EN
CALSCALE:GREGORIAN
METHOD:PUBLISH
X-WR-CALNAME:St Rose of Lima Church
X-ORIGINAL-URL:https://stroseoflimaparish.org
X-WR-CALDESC:Events for St Rose of Lima Church
REFRESH-INTERVAL;VALUE=DURATION:PT1H
X-Robots-Tag:noindex
X-PUBLISHED-TTL:PT1H
BEGIN:VTIMEZONE
TZID:UTC
BEGIN:STANDARD
TZOFFSETFROM:+0000
TZOFFSETTO:+0000
TZNAME:UTC
DTSTART:20230101T000000
END:STANDARD
END:VTIMEZONE
BEGIN:VTIMEZONE
TZID:America/New_York
BEGIN:DAYLIGHT
TZOFFSETFROM:-0500
TZOFFSETTO:-0400
TZNAME:EDT
DTSTART:20230312T070000
END:DAYLIGHT
BEGIN:STANDARD
TZOFFSETFROM:-0400
TZOFFSETTO:-0500
TZNAME:EST
DTSTART:20231105T060000
END:STANDARD
BEGIN:DAYLIGHT
TZOFFSETFROM:-0500
TZOFFSETTO:-0400
TZNAME:EDT
DTSTART:20240310T070000
END:DAYLIGHT
BEGIN:STANDARD
TZOFFSETFROM:-0400
TZOFFSETTO:-0500
TZNAME:EST
DTSTART:20241103T060000
END:STANDARD
BEGIN:DAYLIGHT
TZOFFSETFROM:-0500
TZOFFSETTO:-0400
TZNAME:EDT
DTSTART:20250309T070000
END:DAYLIGHT
BEGIN:STANDARD
TZOFFSETFROM:-0400
TZOFFSETTO:-0500
TZNAME:EST
DTSTART:20251102T060000
END:STANDARD
END:VTIMEZONE
BEGIN:VEVENT
DTSTART;TZID=UTC:20241121T193000
DTEND;TZID=UTC:20241121T210000
DTSTAMP:20260420T091756
CREATED:20240329T155323Z
LAST-MODIFIED:20241023T150808Z
UID:10003168-1732217400-1732222800@stroseoflimaparish.org
SUMMARY:AA
DESCRIPTION:Meeting location: Fr. Graham Center meeting room or contact Outreach at 516.798.4954
URL:https://stroseoflimaparish.org/event/aa-2/2024-11-21
END:VEVENT
BEGIN:VEVENT
DTSTART;TZID=UTC:20241121T130000
DTEND;TZID=UTC:20241121T140000
DTSTAMP:20260420T091756
CREATED:20240212T230720Z
LAST-MODIFIED:20251106T144956Z
UID:10002966-1732194000-1732197600@stroseoflimaparish.org
SUMMARY:Centering Prayer Group
DESCRIPTION:Meets in the Fr. Graham Center Chapel.
URL:https://stroseoflimaparish.org/event/centering-prayer-group/2024-11-21
LOCATION:Fr. Graham Center Chapel
END:VEVENT
BEGIN:VEVENT
DTSTART;TZID=UTC:20241121T080000
DTEND;TZID=UTC:20241121T085000
DTSTAMP:20260420T091756
CREATED:20240212T230544Z
LAST-MODIFIED:20260224T014143Z
UID:10001593-1732176000-1732179000@stroseoflimaparish.org
SUMMARY:Weekly Holy Hour
DESCRIPTION:Come and spend some time with Our Lord!
URL:https://stroseoflimaparish.org/event/weekly-holy-hour/2024-11-21
END:VEVENT
BEGIN:VEVENT
DTSTART;TZID=UTC:20241120T153000
DTEND;TZID=UTC:20241120T164500
DTSTAMP:20260420T091756
CREATED:20240212T225616Z
LAST-MODIFIED:20250310T194909Z
UID:10003467-1732116600-1732121100@stroseoflimaparish.org
SUMMARY:Charismatic Prayer Group
DESCRIPTION:Meeting locations: Fr. Graham Center Chapel
URL:https://stroseoflimaparish.org/event/charismatic-prayer-group/2024-11-20
END:VEVENT
BEGIN:VEVENT
DTSTART;TZID=America/New_York:20241120T130000
DTEND;TZID=America/New_York:20241120T140000
DTSTAMP:20260420T091756
CREATED:20240329T152440Z
LAST-MODIFIED:20250926T142711Z
UID:10001938-1732107600-1732111200@stroseoflimaparish.org
SUMMARY:Al-Anon Meeting
DESCRIPTION:Meeting at the Fr. Graham Center meeting room.
URL:https://stroseoflimaparish.org/event/al-anon-meeting/2024-11-20
END:VEVENT
BEGIN:VEVENT
DTSTART;TZID=America/New_York:20241119T193000
DTEND;TZID=America/New_York:20241119T203000
DTSTAMP:20260420T091756
CREATED:20240415T145611Z
LAST-MODIFIED:20251004T003842Z
UID:10003494-1732044600-1732048200@stroseoflimaparish.org
SUMMARY:St. Rose Institute
DESCRIPTION:Join us for various topics and discussions led by Tom Griffin.  Contact Thomasg@srolchurch.org for details and to register.
URL:https://stroseoflimaparish.org/event/st-rose-institute/2024-11-19
ATTACH;FMTTYPE=image/jpeg:https://stroseoflimaparish.org/wp-content/uploads/2024/11/St-Rose-Institute-logo-draft2.jpg
END:VEVENT
BEGIN:VEVENT
DTSTART;TZID=UTC:20241118T193000
DTEND;TZID=UTC:20241118T210000
DTSTAMP:20260420T091756
CREATED:20240212T203034Z
LAST-MODIFIED:20260214T200106Z
UID:10001655-1731958200-1731963600@stroseoflimaparish.org
SUMMARY:Monday Evening Mass & Holy Hour
DESCRIPTION:Evening Mass followed by Holy Hour – spend some time with Our Lord.
URL:https://stroseoflimaparish.org/event/monday-evening-mass-holy-hour/2024-11-18
ATTACH;FMTTYPE=image/jpeg:https://stroseoflimaparish.org/wp-content/uploads/2024/01/st-rose-of-lima-rc-church-home-bulletin.jpg
END:VEVENT
BEGIN:VEVENT
DTSTART;TZID=America/New_York:20241118T190000
DTEND;TZID=America/New_York:20241118T193000
DTSTAMP:20260420T091756
CREATED:20240423T233625Z
LAST-MODIFIED:20260214T200241Z
UID:10002455-1731956400-1731958200@stroseoflimaparish.org
SUMMARY:Weekly Evening Rosary
DESCRIPTION:The Rosary Society along with the Men of Solidarity invite you to join them to pray the rosary on Monday evenings\, in church\, at 7pm.
URL:https://stroseoflimaparish.org/event/weekly-evening-rosary/2024-11-18
END:VEVENT
BEGIN:VEVENT
DTSTART;TZID=America/New_York:20241117T153000
DTEND;TZID=America/New_York:20241117T163000
DTSTAMP:20260420T091756
CREATED:20241021T155311Z
LAST-MODIFIED:20241021T155311Z
UID:10003138-1731857400-1731861000@stroseoflimaparish.org
SUMMARY:Piano\, Flute & Oboe Concert
DESCRIPTION:Dedication of our new Steinway Piano.
URL:https://stroseoflimaparish.org/event/piano-flute-oboe-concert
ATTACH;FMTTYPE=image/png:https://stroseoflimaparish.org/wp-content/uploads/2024/10/Steinway-Dedication-Flyer-1.png
END:VEVENT
BEGIN:VEVENT
DTSTART;TZID=UTC:20241117T130000
DTEND;TZID=UTC:20241117T134500
DTSTAMP:20260420T091756
CREATED:20240212T232106Z
LAST-MODIFIED:20260329T143759Z
UID:10003623-1731848400-1731851100@stroseoflimaparish.org
SUMMARY:Sunday Conversations
DESCRIPTION:Join us after the 12:00 Mass
URL:https://stroseoflimaparish.org/event/sunday-conversations/2024-11-17
ATTACH;FMTTYPE=image/jpeg:https://stroseoflimaparish.org/wp-content/uploads/2024/02/st-rose-of-lima-rc-church-sunday-conversations-logo.jpg
END:VEVENT
BEGIN:VEVENT
DTSTART;VALUE=DATE:20241117
DTEND;VALUE=DATE:20241118
DTSTAMP:20260420T091756
CREATED:20240212T224437Z
LAST-MODIFIED:20250310T193542Z
UID:10001010-1731801600-1731887999@stroseoflimaparish.org
SUMMARY:Mass Schedule
DESCRIPTION:8am (church and livestreamed)\, 10am (Family Mass)\, 12pm (choir) & 5:15pm (Contemporary Music)
URL:https://stroseoflimaparish.org/event/mass-schedule/2024-11-17
END:VEVENT
BEGIN:VEVENT
DTSTART;TZID=UTC:20241116T171500
DTEND;TZID=UTC:20241116T181500
DTSTAMP:20260420T091756
CREATED:20240229T223222Z
LAST-MODIFIED:20260214T202941Z
UID:10001082-1731777300-1731780900@stroseoflimaparish.org
SUMMARY:Saturday evening vigil Mass
DESCRIPTION:Vigil Mass for Sunday
URL:https://stroseoflimaparish.org/event/saturday-evening-vigil-mass-2/2024-11-16
END:VEVENT
BEGIN:VEVENT
DTSTART;TZID=UTC:20241116T160000
DTEND;TZID=UTC:20241116T170000
DTSTAMP:20260420T091756
CREATED:20240229T223712Z
LAST-MODIFIED:20260320T005919Z
UID:10001338-1731772800-1731776400@stroseoflimaparish.org
SUMMARY:Reconciliation (Confession)
DESCRIPTION:The Sacrament of Reconciliation (Confession) is celebrated on Saturdays from 4 – 5pm and following the 9am Mass Monday-Friday.
URL:https://stroseoflimaparish.org/event/reconciliation-confession-2/2024-11-16
END:VEVENT
BEGIN:VEVENT
DTSTART;TZID=UTC:20241115T190000
DTEND;TZID=UTC:20241115T213000
DTSTAMP:20260420T091756
CREATED:20240229T225414Z
LAST-MODIFIED:20240906T153404Z
UID:10002945-1731697200-1731706200@stroseoflimaparish.org
SUMMARY:Grasp
DESCRIPTION:Grief Recovery After Substance Passing – this bereavement group usually meets on the 3rd Friday of the month.  Contact Debbie Garceau at 516.729.4303 or go to www.grasphelp.org
URL:https://stroseoflimaparish.org/event/grasp-2/2024-11-15
END:VEVENT
BEGIN:VEVENT
DTSTART;TZID=America/New_York:20241115T190000
DTEND;TZID=America/New_York:20241115T210000
DTSTAMP:20260420T091756
CREATED:20240524T145536Z
LAST-MODIFIED:20260126T163334Z
UID:10002713-1731697200-1731704400@stroseoflimaparish.org
SUMMARY:Faith and Sports
DESCRIPTION:Middle School Faith and Sports events – see bulletin for details
URL:https://stroseoflimaparish.org/event/faith-and-sports/2024-11-15
ATTACH;FMTTYPE=image/jpeg:https://stroseoflimaparish.org/wp-content/uploads/2024/02/st-rose-of-lima-rc-church-faith-and-sports-logo.jpg
END:VEVENT
BEGIN:VEVENT
DTSTART;TZID=UTC:20241114T193000
DTEND;TZID=UTC:20241114T210000
DTSTAMP:20260420T091756
CREATED:20240329T155323Z
LAST-MODIFIED:20241023T150808Z
UID:10003167-1731612600-1731618000@stroseoflimaparish.org
SUMMARY:AA
DESCRIPTION:Meeting location: Fr. Graham Center meeting room or contact Outreach at 516.798.4954
URL:https://stroseoflimaparish.org/event/aa-2/2024-11-14
END:VEVENT
BEGIN:VEVENT
DTSTART;TZID=UTC:20241114T080000
DTEND;TZID=UTC:20241114T085000
DTSTAMP:20260420T091756
CREATED:20240212T230544Z
LAST-MODIFIED:20260224T014143Z
UID:10001592-1731571200-1731574200@stroseoflimaparish.org
SUMMARY:Weekly Holy Hour
DESCRIPTION:Come and spend some time with Our Lord!
URL:https://stroseoflimaparish.org/event/weekly-holy-hour/2024-11-14
END:VEVENT
BEGIN:VEVENT
DTSTART;TZID=America/New_York:20241113T200000
DTEND;TZID=America/New_York:20241113T210000
DTSTAMP:20260420T091756
CREATED:20241023T152639Z
LAST-MODIFIED:20260110T012522Z
UID:10003484-1731528000-1731531600@stroseoflimaparish.org
SUMMARY:Family Mass Ministry meeting
DESCRIPTION:Join us in the Rectory Board Room
URL:https://stroseoflimaparish.org/event/family-mass-committee-meeting/2024-11-13/2
END:VEVENT
BEGIN:VEVENT
DTSTART;TZID=UTC:20241113T153000
DTEND;TZID=UTC:20241113T164500
DTSTAMP:20260420T091756
CREATED:20240212T225616Z
LAST-MODIFIED:20250310T194909Z
UID:10003466-1731511800-1731516300@stroseoflimaparish.org
SUMMARY:Charismatic Prayer Group
DESCRIPTION:Meeting locations: Fr. Graham Center Chapel
URL:https://stroseoflimaparish.org/event/charismatic-prayer-group/2024-11-13
END:VEVENT
BEGIN:VEVENT
DTSTART;TZID=America/New_York:20241113T130000
DTEND;TZID=America/New_York:20241113T140000
DTSTAMP:20260420T091756
CREATED:20240329T152440Z
LAST-MODIFIED:20250926T142711Z
UID:10001937-1731502800-1731506400@stroseoflimaparish.org
SUMMARY:Al-Anon Meeting
DESCRIPTION:Meeting at the Fr. Graham Center meeting room.
URL:https://stroseoflimaparish.org/event/al-anon-meeting/2024-11-13
END:VEVENT
BEGIN:VEVENT
DTSTART;TZID=America/New_York:20241113T080000
DTEND;TZID=America/New_York:20241113T170000
DTSTAMP:20260420T091756
CREATED:20241023T152639Z
LAST-MODIFIED:20260110T012522Z
UID:10004260-1731484800-1731517200@stroseoflimaparish.org
SUMMARY:Family Mass Ministry meeting
DESCRIPTION:Join us in the Rectory Board Room
URL:https://stroseoflimaparish.org/event/family-mass-committee-meeting/2024-11-13/1
END:VEVENT
BEGIN:VEVENT
DTSTART;TZID=America/New_York:20241112T193000
DTEND;TZID=America/New_York:20241112T203000
DTSTAMP:20260420T091756
CREATED:20240415T145611Z
LAST-MODIFIED:20251004T003842Z
UID:10003493-1731439800-1731443400@stroseoflimaparish.org
SUMMARY:St. Rose Institute
DESCRIPTION:Join us for various topics and discussions led by Tom Griffin.  Contact Thomasg@srolchurch.org for details and to register.
URL:https://stroseoflimaparish.org/event/st-rose-institute/2024-11-12
ATTACH;FMTTYPE=image/jpeg:https://stroseoflimaparish.org/wp-content/uploads/2024/11/St-Rose-Institute-logo-draft2.jpg
END:VEVENT
BEGIN:VEVENT
DTSTART;VALUE=DATE:20241111
DTEND;VALUE=DATE:20241112
DTSTAMP:20260420T091756
CREATED:20240722T143933Z
LAST-MODIFIED:20241023T153247Z
UID:10002914-1731312000-1731344400@stroseoflimaparish.org
SUMMARY:Civic Holiday Mass Schedule
DESCRIPTION:Masses today are at 7:30 and 9:00 am; no evening Mass. Rectory closed
URL:https://stroseoflimaparish.org/event/civic-holiday-mass-schedule/2024-11-11
END:VEVENT
BEGIN:VEVENT
DTSTART;VALUE=DATE:20241110
DTEND;VALUE=DATE:20241111
DTSTAMP:20260420T091756
CREATED:20240212T224437Z
LAST-MODIFIED:20250310T193542Z
UID:10001009-1731196800-1731283199@stroseoflimaparish.org
SUMMARY:Mass Schedule
DESCRIPTION:8am (church and livestreamed)\, 10am (Family Mass)\, 12pm (choir) & 5:15pm (Contemporary Music)
URL:https://stroseoflimaparish.org/event/mass-schedule/2024-11-10
END:VEVENT
BEGIN:VEVENT
DTSTART;TZID=UTC:20241109T171500
DTEND;TZID=UTC:20241109T181500
DTSTAMP:20260420T091756
CREATED:20240229T223222Z
LAST-MODIFIED:20260214T202941Z
UID:10001081-1731172500-1731176100@stroseoflimaparish.org
SUMMARY:Saturday evening vigil Mass
DESCRIPTION:Vigil Mass for Sunday
URL:https://stroseoflimaparish.org/event/saturday-evening-vigil-mass-2/2024-11-09
END:VEVENT
BEGIN:VEVENT
DTSTART;TZID=UTC:20241109T160000
DTEND;TZID=UTC:20241109T170000
DTSTAMP:20260420T091756
CREATED:20240229T223712Z
LAST-MODIFIED:20260320T005919Z
UID:10001337-1731168000-1731171600@stroseoflimaparish.org
SUMMARY:Reconciliation (Confession)
DESCRIPTION:The Sacrament of Reconciliation (Confession) is celebrated on Saturdays from 4 – 5pm and following the 9am Mass Monday-Friday.
URL:https://stroseoflimaparish.org/event/reconciliation-confession-2/2024-11-09
END:VEVENT
BEGIN:VEVENT
DTSTART;TZID=UTC:20241107T193000
DTEND;TZID=UTC:20241107T210000
DTSTAMP:20260420T091756
CREATED:20240329T155323Z
LAST-MODIFIED:20241023T150808Z
UID:10003166-1731007800-1731013200@stroseoflimaparish.org
SUMMARY:AA
DESCRIPTION:Meeting location: Fr. Graham Center meeting room or contact Outreach at 516.798.4954
URL:https://stroseoflimaparish.org/event/aa-2/2024-11-07
END:VEVENT
BEGIN:VEVENT
DTSTART;TZID=UTC:20241107T130000
DTEND;TZID=UTC:20241107T140000
DTSTAMP:20260420T091756
CREATED:20240212T230720Z
LAST-MODIFIED:20251106T144956Z
UID:10002965-1730984400-1730988000@stroseoflimaparish.org
SUMMARY:Centering Prayer Group
DESCRIPTION:Meets in the Fr. Graham Center Chapel.
URL:https://stroseoflimaparish.org/event/centering-prayer-group/2024-11-07
LOCATION:Fr. Graham Center Chapel
END:VEVENT
BEGIN:VEVENT
DTSTART;TZID=UTC:20241107T080000
DTEND;TZID=UTC:20241107T085000
DTSTAMP:20260420T091756
CREATED:20240212T230544Z
LAST-MODIFIED:20260224T014143Z
UID:10001591-1730966400-1730969400@stroseoflimaparish.org
SUMMARY:Weekly Holy Hour
DESCRIPTION:Come and spend some time with Our Lord!
URL:https://stroseoflimaparish.org/event/weekly-holy-hour/2024-11-07
END:VEVENT
BEGIN:VEVENT
DTSTART;TZID=UTC:20241106T153000
DTEND;TZID=UTC:20241106T164500
DTSTAMP:20260420T091756
CREATED:20240212T225616Z
LAST-MODIFIED:20250310T194909Z
UID:10003465-1730907000-1730911500@stroseoflimaparish.org
SUMMARY:Charismatic Prayer Group
DESCRIPTION:Meeting locations: Fr. Graham Center Chapel
URL:https://stroseoflimaparish.org/event/charismatic-prayer-group/2024-11-06
END:VEVENT
END:VCALENDAR