BEGIN:VCALENDAR
VERSION:2.0
PRODID:-//St Rose of Lima Church - ECPv6.15.20//NONSGML v1.0//EN
CALSCALE:GREGORIAN
METHOD:PUBLISH
X-ORIGINAL-URL:https://stroseoflimaparish.org
X-WR-CALDESC:Events for St Rose of Lima Church
REFRESH-INTERVAL;VALUE=DURATION:PT1H
X-Robots-Tag:noindex
X-PUBLISHED-TTL:PT1H
BEGIN:VTIMEZONE
TZID:America/New_York
BEGIN:DAYLIGHT
TZOFFSETFROM:-0500
TZOFFSETTO:-0400
TZNAME:EDT
DTSTART:20230312T070000
END:DAYLIGHT
BEGIN:STANDARD
TZOFFSETFROM:-0400
TZOFFSETTO:-0500
TZNAME:EST
DTSTART:20231105T060000
END:STANDARD
BEGIN:DAYLIGHT
TZOFFSETFROM:-0500
TZOFFSETTO:-0400
TZNAME:EDT
DTSTART:20240310T070000
END:DAYLIGHT
BEGIN:STANDARD
TZOFFSETFROM:-0400
TZOFFSETTO:-0500
TZNAME:EST
DTSTART:20241103T060000
END:STANDARD
BEGIN:DAYLIGHT
TZOFFSETFROM:-0500
TZOFFSETTO:-0400
TZNAME:EDT
DTSTART:20250309T070000
END:DAYLIGHT
BEGIN:STANDARD
TZOFFSETFROM:-0400
TZOFFSETTO:-0500
TZNAME:EST
DTSTART:20251102T060000
END:STANDARD
BEGIN:DAYLIGHT
TZOFFSETFROM:-0500
TZOFFSETTO:-0400
TZNAME:EDT
DTSTART:20260308T070000
END:DAYLIGHT
BEGIN:STANDARD
TZOFFSETFROM:-0400
TZOFFSETTO:-0500
TZNAME:EST
DTSTART:20261101T060000
END:STANDARD
END:VTIMEZONE
BEGIN:VTIMEZONE
TZID:UTC
BEGIN:STANDARD
TZOFFSETFROM:+0000
TZOFFSETTO:+0000
TZNAME:UTC
DTSTART:20240101T000000
END:STANDARD
END:VTIMEZONE
BEGIN:VEVENT
DTSTART;VALUE=DATE:20241231
DTEND;VALUE=DATE:20250101
DTSTAMP:20260423T112357
CREATED:20241229T013223Z
LAST-MODIFIED:20241229T013322Z
UID:10003540-1735603200-1735689599@stroseoflimaparish.org
SUMMARY:Rectory Closings
DESCRIPTION:The rectory will close at 1pm on December 31st\, will be closed all day on January 1st\, and will close early at 5pm on January 2nd. Wishing all a happy New Year!
URL:https://stroseoflimaparish.org/event/rectory-closed-for-christmas-2/2024-12-31
END:VEVENT
BEGIN:VEVENT
DTSTART;VALUE=DATE:20250101
DTEND;VALUE=DATE:20250102
DTSTAMP:20260423T112357
CREATED:20241202T151826Z
LAST-MODIFIED:20251221T031802Z
UID:10004243-1735689600-1735775999@stroseoflimaparish.org
SUMMARY:Mary Mother of God - Holy Day of Obligation
DESCRIPTION:Masses at 7:30 am\, 9:00 am and 12:00 noon – there is no 7:30 pm Mass tonight
URL:https://stroseoflimaparish.org/event/mary-mother-of-god-holy-day-of-obligation/2025-01-01/4
END:VEVENT
BEGIN:VEVENT
DTSTART;VALUE=DATE:20250101
DTEND;VALUE=DATE:20250102
DTSTAMP:20260423T112357
CREATED:20241229T013223Z
LAST-MODIFIED:20241229T013322Z
UID:10003543-1735718400-1735750800@stroseoflimaparish.org
SUMMARY:Rectory Closings
DESCRIPTION:The rectory will close at 1pm on December 31st\, will be closed all day on January 1st\, and will close early at 5pm on January 2nd. Wishing all a happy New Year!
URL:https://stroseoflimaparish.org/event/rectory-closed-for-christmas-2/2025-01-01
END:VEVENT
BEGIN:VEVENT
DTSTART;VALUE=DATE:20250101
DTEND;VALUE=DATE:20250102
DTSTAMP:20260423T112357
CREATED:20241202T151826Z
LAST-MODIFIED:20251221T031802Z
UID:10003523-1735722000-1735725600@stroseoflimaparish.org
SUMMARY:Mary Mother of God - Holy Day of Obligation
DESCRIPTION:Masses at 7:30 am\, 9:00 am and 12:00 noon – there is no 7:30 pm Mass tonight
URL:https://stroseoflimaparish.org/event/mary-mother-of-god-holy-day-of-obligation/2025-01-01/2
END:VEVENT
BEGIN:VEVENT
DTSTART;VALUE=DATE:20250102
DTEND;VALUE=DATE:20250103
DTSTAMP:20260423T112357
CREATED:20241229T013223Z
LAST-MODIFIED:20241229T013322Z
UID:10003544-1735804800-1735837200@stroseoflimaparish.org
SUMMARY:Rectory Closings
DESCRIPTION:The rectory will close at 1pm on December 31st\, will be closed all day on January 1st\, and will close early at 5pm on January 2nd. Wishing all a happy New Year!
URL:https://stroseoflimaparish.org/event/rectory-closed-for-christmas-2/2025-01-02
END:VEVENT
BEGIN:VEVENT
DTSTART;TZID=UTC:20250102T130000
DTEND;TZID=UTC:20250102T140000
DTSTAMP:20260423T112357
CREATED:20240212T230720Z
LAST-MODIFIED:20251106T144956Z
UID:10002969-1735822800-1735826400@stroseoflimaparish.org
SUMMARY:Centering Prayer Group
DESCRIPTION:Meets in the Fr. Graham Center Chapel.
URL:https://stroseoflimaparish.org/event/centering-prayer-group/2025-01-02
LOCATION:Fr. Graham Center Chapel
END:VEVENT
BEGIN:VEVENT
DTSTART;TZID=UTC:20250102T193000
DTEND;TZID=UTC:20250102T210000
DTSTAMP:20260423T112357
CREATED:20240329T155323Z
LAST-MODIFIED:20241023T150808Z
UID:10003172-1735846200-1735851600@stroseoflimaparish.org
SUMMARY:AA
DESCRIPTION:Meeting location: Fr. Graham Center meeting room or contact Outreach at 516.798.4954
URL:https://stroseoflimaparish.org/event/aa-2/2025-01-02
END:VEVENT
BEGIN:VEVENT
DTSTART;TZID=UTC:20250104T071500
DTEND;TZID=UTC:20250104T080000
DTSTAMP:20260423T112357
CREATED:20240229T220945Z
LAST-MODIFIED:20251104T164754Z
UID:10003545-1735974900-1735977600@stroseoflimaparish.org
SUMMARY:1st Saturday Devotion
DESCRIPTION:
URL:https://stroseoflimaparish.org/event/1st-saturday-devotion/2025-01-04
END:VEVENT
BEGIN:VEVENT
DTSTART;TZID=UTC:20250104T080000
DTEND;TZID=UTC:20250104T083000
DTSTAMP:20260423T112357
CREATED:20240229T221346Z
LAST-MODIFIED:20251104T165344Z
UID:10003556-1735977600-1735979400@stroseoflimaparish.org
SUMMARY:Anointing Mass
DESCRIPTION:
URL:https://stroseoflimaparish.org/event/anointing-mass/2025-01-04
END:VEVENT
BEGIN:VEVENT
DTSTART;TZID=UTC:20250104T160000
DTEND;TZID=UTC:20250104T170000
DTSTAMP:20260423T112357
CREATED:20240229T223712Z
LAST-MODIFIED:20260320T005919Z
UID:10001345-1736006400-1736010000@stroseoflimaparish.org
SUMMARY:Reconciliation (Confession)
DESCRIPTION:The Sacrament of Reconciliation (Confession) is celebrated on Saturdays from 4 – 5pm and following the 9am Mass Monday-Friday.
URL:https://stroseoflimaparish.org/event/reconciliation-confession-2/2025-01-04
END:VEVENT
BEGIN:VEVENT
DTSTART;TZID=UTC:20250104T171500
DTEND;TZID=UTC:20250104T181500
DTSTAMP:20260423T112357
CREATED:20240229T223222Z
LAST-MODIFIED:20260214T202941Z
UID:10001089-1736010900-1736014500@stroseoflimaparish.org
SUMMARY:Saturday evening vigil Mass
DESCRIPTION:Vigil Mass for Sunday
URL:https://stroseoflimaparish.org/event/saturday-evening-vigil-mass-2/2025-01-04
END:VEVENT
BEGIN:VEVENT
DTSTART;VALUE=DATE:20250105
DTEND;VALUE=DATE:20250106
DTSTAMP:20260423T112357
CREATED:20240212T224437Z
LAST-MODIFIED:20250310T193542Z
UID:10001017-1736035200-1736121599@stroseoflimaparish.org
SUMMARY:Mass Schedule
DESCRIPTION:8am (church and livestreamed)\, 10am (Family Mass)\, 12pm (choir) & 5:15pm (Contemporary Music)
URL:https://stroseoflimaparish.org/event/mass-schedule/2025-01-05
END:VEVENT
BEGIN:VEVENT
DTSTART;TZID=America/New_York:20250106T190000
DTEND;TZID=America/New_York:20250106T193000
DTSTAMP:20260423T112357
CREATED:20240423T233625Z
LAST-MODIFIED:20260214T200241Z
UID:10002462-1736190000-1736191800@stroseoflimaparish.org
SUMMARY:Weekly Evening Rosary
DESCRIPTION:The Rosary Society along with the Men of Solidarity invite you to join them to pray the rosary on Monday evenings\, in church\, at 7pm.
URL:https://stroseoflimaparish.org/event/weekly-evening-rosary/2025-01-06
END:VEVENT
BEGIN:VEVENT
DTSTART;TZID=UTC:20250106T193000
DTEND;TZID=UTC:20250106T210000
DTSTAMP:20260423T112357
CREATED:20240212T203034Z
LAST-MODIFIED:20260214T200106Z
UID:10001662-1736191800-1736197200@stroseoflimaparish.org
SUMMARY:Monday Evening Mass & Holy Hour
DESCRIPTION:Evening Mass followed by Holy Hour – spend some time with Our Lord.
URL:https://stroseoflimaparish.org/event/monday-evening-mass-holy-hour/2025-01-06
ATTACH;FMTTYPE=image/jpeg:https://stroseoflimaparish.org/wp-content/uploads/2024/01/st-rose-of-lima-rc-church-home-bulletin.jpg
END:VEVENT
BEGIN:VEVENT
DTSTART;TZID=UTC:20250107T193000
DTEND;TZID=UTC:20250107T210000
DTSTAMP:20260423T112357
CREATED:20240313T225538Z
LAST-MODIFIED:20250329T171326Z
UID:10003834-1736278200-1736283600@stroseoflimaparish.org
SUMMARY:Respect Life Committee Meeting
DESCRIPTION:Rectory Board Room
URL:https://stroseoflimaparish.org/event/respect-life-committee-meeting-2/2025-01-07
END:VEVENT
BEGIN:VEVENT
DTSTART;TZID=America/New_York:20250108T130000
DTEND;TZID=America/New_York:20250108T140000
DTSTAMP:20260423T112357
CREATED:20240329T152440Z
LAST-MODIFIED:20250926T142711Z
UID:10001944-1736341200-1736344800@stroseoflimaparish.org
SUMMARY:Al-Anon Meeting
DESCRIPTION:Meeting at the Fr. Graham Center meeting room.
URL:https://stroseoflimaparish.org/event/al-anon-meeting/2025-01-08
END:VEVENT
BEGIN:VEVENT
DTSTART;TZID=UTC:20250108T153000
DTEND;TZID=UTC:20250108T164500
DTSTAMP:20260423T112357
CREATED:20240212T225616Z
LAST-MODIFIED:20250310T194909Z
UID:10003473-1736350200-1736354700@stroseoflimaparish.org
SUMMARY:Charismatic Prayer Group
DESCRIPTION:Meeting locations: Fr. Graham Center Chapel
URL:https://stroseoflimaparish.org/event/charismatic-prayer-group/2025-01-08
END:VEVENT
BEGIN:VEVENT
DTSTART;TZID=UTC:20250109T193000
DTEND;TZID=UTC:20250109T210000
DTSTAMP:20260423T112357
CREATED:20240329T155323Z
LAST-MODIFIED:20241023T150808Z
UID:10003173-1736451000-1736456400@stroseoflimaparish.org
SUMMARY:AA
DESCRIPTION:Meeting location: Fr. Graham Center meeting room or contact Outreach at 516.798.4954
URL:https://stroseoflimaparish.org/event/aa-2/2025-01-09
END:VEVENT
BEGIN:VEVENT
DTSTART;TZID=UTC:20250111T160000
DTEND;TZID=UTC:20250111T170000
DTSTAMP:20260423T112357
CREATED:20240229T223712Z
LAST-MODIFIED:20260320T005919Z
UID:10001346-1736611200-1736614800@stroseoflimaparish.org
SUMMARY:Reconciliation (Confession)
DESCRIPTION:The Sacrament of Reconciliation (Confession) is celebrated on Saturdays from 4 – 5pm and following the 9am Mass Monday-Friday.
URL:https://stroseoflimaparish.org/event/reconciliation-confession-2/2025-01-11
END:VEVENT
BEGIN:VEVENT
DTSTART;TZID=UTC:20250111T171500
DTEND;TZID=UTC:20250111T181500
DTSTAMP:20260423T112357
CREATED:20240229T223222Z
LAST-MODIFIED:20260214T202941Z
UID:10001090-1736615700-1736619300@stroseoflimaparish.org
SUMMARY:Saturday evening vigil Mass
DESCRIPTION:Vigil Mass for Sunday
URL:https://stroseoflimaparish.org/event/saturday-evening-vigil-mass-2/2025-01-11
END:VEVENT
BEGIN:VEVENT
DTSTART;VALUE=DATE:20250112
DTEND;VALUE=DATE:20250113
DTSTAMP:20260423T112357
CREATED:20240212T224437Z
LAST-MODIFIED:20250310T193542Z
UID:10001018-1736640000-1736726399@stroseoflimaparish.org
SUMMARY:Mass Schedule
DESCRIPTION:8am (church and livestreamed)\, 10am (Family Mass)\, 12pm (choir) & 5:15pm (Contemporary Music)
URL:https://stroseoflimaparish.org/event/mass-schedule/2025-01-12
END:VEVENT
BEGIN:VEVENT
DTSTART;TZID=UTC:20250112T130000
DTEND;TZID=UTC:20250112T134500
DTSTAMP:20260423T112357
CREATED:20240212T232106Z
LAST-MODIFIED:20260329T143759Z
UID:10003625-1736686800-1736689500@stroseoflimaparish.org
SUMMARY:Sunday Conversations
DESCRIPTION:Join us after the 12:00 Mass
URL:https://stroseoflimaparish.org/event/sunday-conversations/2025-01-12
ATTACH;FMTTYPE=image/jpeg:https://stroseoflimaparish.org/wp-content/uploads/2024/02/st-rose-of-lima-rc-church-sunday-conversations-logo.jpg
END:VEVENT
BEGIN:VEVENT
DTSTART;TZID=America/New_York:20250113T190000
DTEND;TZID=America/New_York:20250113T193000
DTSTAMP:20260423T112357
CREATED:20240423T233625Z
LAST-MODIFIED:20260214T200241Z
UID:10002463-1736794800-1736796600@stroseoflimaparish.org
SUMMARY:Weekly Evening Rosary
DESCRIPTION:The Rosary Society along with the Men of Solidarity invite you to join them to pray the rosary on Monday evenings\, in church\, at 7pm.
URL:https://stroseoflimaparish.org/event/weekly-evening-rosary/2025-01-13
END:VEVENT
BEGIN:VEVENT
DTSTART;TZID=UTC:20250113T193000
DTEND;TZID=UTC:20250113T210000
DTSTAMP:20260423T112357
CREATED:20240212T203034Z
LAST-MODIFIED:20260214T200106Z
UID:10001663-1736796600-1736802000@stroseoflimaparish.org
SUMMARY:Monday Evening Mass & Holy Hour
DESCRIPTION:Evening Mass followed by Holy Hour – spend some time with Our Lord.
URL:https://stroseoflimaparish.org/event/monday-evening-mass-holy-hour/2025-01-13
ATTACH;FMTTYPE=image/jpeg:https://stroseoflimaparish.org/wp-content/uploads/2024/01/st-rose-of-lima-rc-church-home-bulletin.jpg
END:VEVENT
BEGIN:VEVENT
DTSTART;TZID=America/New_York:20250115T130000
DTEND;TZID=America/New_York:20250115T140000
DTSTAMP:20260423T112357
CREATED:20240329T152440Z
LAST-MODIFIED:20250926T142711Z
UID:10001945-1736946000-1736949600@stroseoflimaparish.org
SUMMARY:Al-Anon Meeting
DESCRIPTION:Meeting at the Fr. Graham Center meeting room.
URL:https://stroseoflimaparish.org/event/al-anon-meeting/2025-01-15
END:VEVENT
BEGIN:VEVENT
DTSTART;TZID=UTC:20250115T153000
DTEND;TZID=UTC:20250115T164500
DTSTAMP:20260423T112357
CREATED:20240212T225616Z
LAST-MODIFIED:20250310T194909Z
UID:10003474-1736955000-1736959500@stroseoflimaparish.org
SUMMARY:Charismatic Prayer Group
DESCRIPTION:Meeting locations: Fr. Graham Center Chapel
URL:https://stroseoflimaparish.org/event/charismatic-prayer-group/2025-01-15
END:VEVENT
BEGIN:VEVENT
DTSTART;TZID=UTC:20250116T130000
DTEND;TZID=UTC:20250116T140000
DTSTAMP:20260423T112357
CREATED:20240212T230720Z
LAST-MODIFIED:20251106T144956Z
UID:10002970-1737032400-1737036000@stroseoflimaparish.org
SUMMARY:Centering Prayer Group
DESCRIPTION:Meets in the Fr. Graham Center Chapel.
URL:https://stroseoflimaparish.org/event/centering-prayer-group/2025-01-16
LOCATION:Fr. Graham Center Chapel
END:VEVENT
BEGIN:VEVENT
DTSTART;TZID=UTC:20250116T193000
DTEND;TZID=UTC:20250116T210000
DTSTAMP:20260423T112357
CREATED:20240329T155323Z
LAST-MODIFIED:20241023T150808Z
UID:10003174-1737055800-1737061200@stroseoflimaparish.org
SUMMARY:AA
DESCRIPTION:Meeting location: Fr. Graham Center meeting room or contact Outreach at 516.798.4954
URL:https://stroseoflimaparish.org/event/aa-2/2025-01-16
END:VEVENT
BEGIN:VEVENT
DTSTART;TZID=America/New_York:20250117T190000
DTEND;TZID=America/New_York:20250117T210000
DTSTAMP:20260423T112357
CREATED:20240524T145536Z
LAST-MODIFIED:20260126T163334Z
UID:10002714-1737140400-1737147600@stroseoflimaparish.org
SUMMARY:Faith and Sports
DESCRIPTION:Middle School Faith and Sports events – see bulletin for details
URL:https://stroseoflimaparish.org/event/faith-and-sports/2025-01-17
ATTACH;FMTTYPE=image/jpeg:https://stroseoflimaparish.org/wp-content/uploads/2024/02/st-rose-of-lima-rc-church-faith-and-sports-logo.jpg
END:VEVENT
BEGIN:VEVENT
DTSTART;TZID=UTC:20250117T190000
DTEND;TZID=UTC:20250117T213000
DTSTAMP:20260423T112357
CREATED:20240229T225414Z
LAST-MODIFIED:20240906T153404Z
UID:10002947-1737140400-1737149400@stroseoflimaparish.org
SUMMARY:Grasp
DESCRIPTION:Grief Recovery After Substance Passing – this bereavement group usually meets on the 3rd Friday of the month.  Contact Debbie Garceau at 516.729.4303 or go to www.grasphelp.org
URL:https://stroseoflimaparish.org/event/grasp-2/2025-01-17
END:VEVENT
END:VCALENDAR