BEGIN:VCALENDAR
VERSION:2.0
PRODID:-//St Rose of Lima Church - ECPv6.15.20//NONSGML v1.0//EN
CALSCALE:GREGORIAN
METHOD:PUBLISH
X-ORIGINAL-URL:https://stroseoflimaparish.org
X-WR-CALDESC:Events for St Rose of Lima Church
REFRESH-INTERVAL;VALUE=DURATION:PT1H
X-Robots-Tag:noindex
X-PUBLISHED-TTL:PT1H
BEGIN:VTIMEZONE
TZID:America/New_York
BEGIN:DAYLIGHT
TZOFFSETFROM:-0500
TZOFFSETTO:-0400
TZNAME:EDT
DTSTART:20240310T070000
END:DAYLIGHT
BEGIN:STANDARD
TZOFFSETFROM:-0400
TZOFFSETTO:-0500
TZNAME:EST
DTSTART:20241103T060000
END:STANDARD
BEGIN:DAYLIGHT
TZOFFSETFROM:-0500
TZOFFSETTO:-0400
TZNAME:EDT
DTSTART:20250309T070000
END:DAYLIGHT
BEGIN:STANDARD
TZOFFSETFROM:-0400
TZOFFSETTO:-0500
TZNAME:EST
DTSTART:20251102T060000
END:STANDARD
BEGIN:DAYLIGHT
TZOFFSETFROM:-0500
TZOFFSETTO:-0400
TZNAME:EDT
DTSTART:20260308T070000
END:DAYLIGHT
BEGIN:STANDARD
TZOFFSETFROM:-0400
TZOFFSETTO:-0500
TZNAME:EST
DTSTART:20261101T060000
END:STANDARD
END:VTIMEZONE
BEGIN:VTIMEZONE
TZID:UTC
BEGIN:STANDARD
TZOFFSETFROM:+0000
TZOFFSETTO:+0000
TZNAME:UTC
DTSTART:20240101T000000
END:STANDARD
END:VTIMEZONE
BEGIN:VEVENT
DTSTART;TZID=America/New_York:20250911T180000
DTEND;TZID=America/New_York:20250911T190000
DTSTAMP:20260422T173603
CREATED:20240821T151545Z
LAST-MODIFIED:20250906T154534Z
UID:10002930-1757613600-1757617200@stroseoflimaparish.org
SUMMARY:9-11 Sunset Mass at Burns Park
DESCRIPTION:6:00pm at the Towers of Freedom Military Monument\, John J. Burns Park
URL:https://stroseoflimaparish.org/event/9-11-sunset-mass-at-burns-park
END:VEVENT
BEGIN:VEVENT
DTSTART;TZID=UTC:20250911T193000
DTEND;TZID=UTC:20250911T210000
DTSTAMP:20260422T173603
CREATED:20250708T203329Z
LAST-MODIFIED:20260214T203116Z
UID:10003207-1757619000-1757624400@stroseoflimaparish.org
SUMMARY:AA
DESCRIPTION:Meeting location: Fr. Graham Center meeting room or contact Outreach at 516.798.4954
URL:https://stroseoflimaparish.org/event/aa-2-2/2025-09-11
END:VEVENT
BEGIN:VEVENT
DTSTART;TZID=America/New_York:20250912T100000
DTEND;TZID=America/New_York:20250912T140000
DTSTAMP:20260422T173603
CREATED:20250822T000354Z
LAST-MODIFIED:20250822T000510Z
UID:10003920-1757671200-1757685600@stroseoflimaparish.org
SUMMARY:Catholic Health Mobile Outreach Bus
DESCRIPTION:Free Screenings – no appointment necessary. See bulletin for details.
URL:https://stroseoflimaparish.org/event/st-francis-hospital-outreach-bus-2
END:VEVENT
BEGIN:VEVENT
DTSTART;TZID=America/New_York:20250913T080000
DTEND;TZID=America/New_York:20250913T090000
DTSTAMP:20260422T173603
CREATED:20240531T003054Z
LAST-MODIFIED:20250816T201410Z
UID:10002729-1757750400-1757754000@stroseoflimaparish.org
SUMMARY:National Day of Remembrance for Aborted Children
DESCRIPTION:Join us for 8:00am Mass\, then outside church for a Prayer Service (8:30am) to remember and pray for all those children who have lost their lives to abortion.
URL:https://stroseoflimaparish.org/event/national-day-of-remembrance-for-aborted-children
ATTACH;FMTTYPE=image/jpeg:https://stroseoflimaparish.org/wp-content/uploads/2024/05/National-Day-of-Remembrance-Prayer-Service.jpg
END:VEVENT
BEGIN:VEVENT
DTSTART;TZID=UTC:20250913T160000
DTEND;TZID=UTC:20250913T170000
DTSTAMP:20260422T173603
CREATED:20240229T223712Z
LAST-MODIFIED:20260320T005919Z
UID:10001381-1757779200-1757782800@stroseoflimaparish.org
SUMMARY:Reconciliation (Confession)
DESCRIPTION:The Sacrament of Reconciliation (Confession) is celebrated on Saturdays from 4 – 5pm and following the 9am Mass Monday-Friday.
URL:https://stroseoflimaparish.org/event/reconciliation-confession-2/2025-09-13
END:VEVENT
BEGIN:VEVENT
DTSTART;TZID=UTC:20250913T171500
DTEND;TZID=UTC:20250913T181500
DTSTAMP:20260422T173603
CREATED:20240229T223222Z
LAST-MODIFIED:20260214T202941Z
UID:10001125-1757783700-1757787300@stroseoflimaparish.org
SUMMARY:Saturday evening vigil Mass
DESCRIPTION:Vigil Mass for Sunday
URL:https://stroseoflimaparish.org/event/saturday-evening-vigil-mass-2/2025-09-13
END:VEVENT
BEGIN:VEVENT
DTSTART;VALUE=DATE:20250914
DTEND;VALUE=DATE:20250915
DTSTAMP:20260422T173603
CREATED:20240212T224437Z
LAST-MODIFIED:20250310T193542Z
UID:10003783-1757836800-1757869200@stroseoflimaparish.org
SUMMARY:Mass Schedule
DESCRIPTION:8am (church and livestreamed)\, 10am (Family Mass)\, 12pm (choir) & 5:15pm (Contemporary Music)
URL:https://stroseoflimaparish.org/event/mass-schedule/2025-09-14
END:VEVENT
BEGIN:VEVENT
DTSTART;TZID=America/New_York:20250915T190000
DTEND;TZID=America/New_York:20250915T193000
DTSTAMP:20260422T173603
CREATED:20240423T233625Z
LAST-MODIFIED:20260214T200241Z
UID:10002498-1757962800-1757964600@stroseoflimaparish.org
SUMMARY:Weekly Evening Rosary
DESCRIPTION:The Rosary Society along with the Men of Solidarity invite you to join them to pray the rosary on Monday evenings\, in church\, at 7pm.
URL:https://stroseoflimaparish.org/event/weekly-evening-rosary/2025-09-15
END:VEVENT
BEGIN:VEVENT
DTSTART;TZID=UTC:20250915T193000
DTEND;TZID=UTC:20250915T210000
DTSTAMP:20260422T173603
CREATED:20240212T203034Z
LAST-MODIFIED:20260214T200106Z
UID:10001698-1757964600-1757970000@stroseoflimaparish.org
SUMMARY:Monday Evening Mass & Holy Hour
DESCRIPTION:Evening Mass followed by Holy Hour – spend some time with Our Lord.
URL:https://stroseoflimaparish.org/event/monday-evening-mass-holy-hour/2025-09-15
ATTACH;FMTTYPE=image/jpeg:https://stroseoflimaparish.org/wp-content/uploads/2024/01/st-rose-of-lima-rc-church-home-bulletin.jpg
END:VEVENT
BEGIN:VEVENT
DTSTART;TZID=America/New_York:20250917T130000
DTEND;TZID=America/New_York:20250917T140000
DTSTAMP:20260422T173603
CREATED:20240329T152440Z
LAST-MODIFIED:20250926T142711Z
UID:10001980-1758114000-1758117600@stroseoflimaparish.org
SUMMARY:Al-Anon Meeting
DESCRIPTION:Meeting at the Fr. Graham Center meeting room.
URL:https://stroseoflimaparish.org/event/al-anon-meeting/2025-09-17
END:VEVENT
BEGIN:VEVENT
DTSTART;TZID=UTC:20250918T193000
DTEND;TZID=UTC:20250918T210000
DTSTAMP:20260422T173603
CREATED:20250708T203329Z
LAST-MODIFIED:20260214T203116Z
UID:10003208-1758223800-1758229200@stroseoflimaparish.org
SUMMARY:AA
DESCRIPTION:Meeting location: Fr. Graham Center meeting room or contact Outreach at 516.798.4954
URL:https://stroseoflimaparish.org/event/aa-2-2/2025-09-18
END:VEVENT
BEGIN:VEVENT
DTSTART;TZID=UTC:20250920T160000
DTEND;TZID=UTC:20250920T170000
DTSTAMP:20260422T173603
CREATED:20240229T223712Z
LAST-MODIFIED:20260320T005919Z
UID:10001382-1758384000-1758387600@stroseoflimaparish.org
SUMMARY:Reconciliation (Confession)
DESCRIPTION:The Sacrament of Reconciliation (Confession) is celebrated on Saturdays from 4 – 5pm and following the 9am Mass Monday-Friday.
URL:https://stroseoflimaparish.org/event/reconciliation-confession-2/2025-09-20
END:VEVENT
BEGIN:VEVENT
DTSTART;TZID=UTC:20250920T171500
DTEND;TZID=UTC:20250920T181500
DTSTAMP:20260422T173603
CREATED:20240229T223222Z
LAST-MODIFIED:20260214T202941Z
UID:10001126-1758388500-1758392100@stroseoflimaparish.org
SUMMARY:Saturday evening vigil Mass
DESCRIPTION:Vigil Mass for Sunday
URL:https://stroseoflimaparish.org/event/saturday-evening-vigil-mass-2/2025-09-20
END:VEVENT
BEGIN:VEVENT
DTSTART;VALUE=DATE:20250921
DTEND;VALUE=DATE:20250922
DTSTAMP:20260422T173603
CREATED:20240212T224437Z
LAST-MODIFIED:20250310T193542Z
UID:10003784-1758441600-1758474000@stroseoflimaparish.org
SUMMARY:Mass Schedule
DESCRIPTION:8am (church and livestreamed)\, 10am (Family Mass)\, 12pm (choir) & 5:15pm (Contemporary Music)
URL:https://stroseoflimaparish.org/event/mass-schedule/2025-09-21
END:VEVENT
BEGIN:VEVENT
DTSTART;TZID=UTC:20250921T130000
DTEND;TZID=UTC:20250921T134500
DTSTAMP:20260422T173603
CREATED:20240212T232106Z
LAST-MODIFIED:20260329T143759Z
UID:10003921-1758459600-1758462300@stroseoflimaparish.org
SUMMARY:Sunday Conversations
DESCRIPTION:Join us after the 12:00 Mass
URL:https://stroseoflimaparish.org/event/sunday-conversations/2025-09-21
ATTACH;FMTTYPE=image/jpeg:https://stroseoflimaparish.org/wp-content/uploads/2024/02/st-rose-of-lima-rc-church-sunday-conversations-logo.jpg
END:VEVENT
BEGIN:VEVENT
DTSTART;TZID=America/New_York:20250922T190000
DTEND;TZID=America/New_York:20250922T193000
DTSTAMP:20260422T173603
CREATED:20240423T233625Z
LAST-MODIFIED:20260214T200241Z
UID:10002499-1758567600-1758569400@stroseoflimaparish.org
SUMMARY:Weekly Evening Rosary
DESCRIPTION:The Rosary Society along with the Men of Solidarity invite you to join them to pray the rosary on Monday evenings\, in church\, at 7pm.
URL:https://stroseoflimaparish.org/event/weekly-evening-rosary/2025-09-22
END:VEVENT
BEGIN:VEVENT
DTSTART;TZID=UTC:20250922T193000
DTEND;TZID=UTC:20250922T210000
DTSTAMP:20260422T173603
CREATED:20240212T203034Z
LAST-MODIFIED:20260214T200106Z
UID:10001699-1758569400-1758574800@stroseoflimaparish.org
SUMMARY:Monday Evening Mass & Holy Hour
DESCRIPTION:Evening Mass followed by Holy Hour – spend some time with Our Lord.
URL:https://stroseoflimaparish.org/event/monday-evening-mass-holy-hour/2025-09-22
ATTACH;FMTTYPE=image/jpeg:https://stroseoflimaparish.org/wp-content/uploads/2024/01/st-rose-of-lima-rc-church-home-bulletin.jpg
END:VEVENT
BEGIN:VEVENT
DTSTART;TZID=America/New_York:20250922T193000
DTEND;TZID=America/New_York:20250922T210000
DTSTAMP:20260422T173603
CREATED:20240913T201246Z
LAST-MODIFIED:20250906T154710Z
UID:10003081-1758569400-1758574800@stroseoflimaparish.org
SUMMARY:Padre Pio Mass
DESCRIPTION:See the bulletin or our Facebook page for complete details.
URL:https://stroseoflimaparish.org/event/our-lady-of-the-rosary-and-padre-pio-mass
END:VEVENT
BEGIN:VEVENT
DTSTART;TZID=America/New_York:20250924T130000
DTEND;TZID=America/New_York:20250924T140000
DTSTAMP:20260422T173603
CREATED:20240329T152440Z
LAST-MODIFIED:20250926T142711Z
UID:10001981-1758718800-1758722400@stroseoflimaparish.org
SUMMARY:Al-Anon Meeting
DESCRIPTION:Meeting at the Fr. Graham Center meeting room.
URL:https://stroseoflimaparish.org/event/al-anon-meeting/2025-09-24
END:VEVENT
BEGIN:VEVENT
DTSTART;TZID=UTC:20250925T080000
DTEND;TZID=UTC:20250925T083000
DTSTAMP:20260422T173603
CREATED:20240212T230544Z
LAST-MODIFIED:20260224T014143Z
UID:10003930-1758787200-1758789000@stroseoflimaparish.org
SUMMARY:Weekly Holy Hour
DESCRIPTION:Come and spend some time with Our Lord!
URL:https://stroseoflimaparish.org/event/weekly-holy-hour/2025-09-25
END:VEVENT
BEGIN:VEVENT
DTSTART;TZID=UTC:20250925T193000
DTEND;TZID=UTC:20250925T210000
DTSTAMP:20260422T173603
CREATED:20250708T203329Z
LAST-MODIFIED:20260214T203116Z
UID:10003209-1758828600-1758834000@stroseoflimaparish.org
SUMMARY:AA
DESCRIPTION:Meeting location: Fr. Graham Center meeting room or contact Outreach at 516.798.4954
URL:https://stroseoflimaparish.org/event/aa-2-2/2025-09-25
END:VEVENT
BEGIN:VEVENT
DTSTART;TZID=UTC:20250927T160000
DTEND;TZID=UTC:20250927T170000
DTSTAMP:20260422T173603
CREATED:20240229T223712Z
LAST-MODIFIED:20260320T005919Z
UID:10001383-1758988800-1758992400@stroseoflimaparish.org
SUMMARY:Reconciliation (Confession)
DESCRIPTION:The Sacrament of Reconciliation (Confession) is celebrated on Saturdays from 4 – 5pm and following the 9am Mass Monday-Friday.
URL:https://stroseoflimaparish.org/event/reconciliation-confession-2/2025-09-27
END:VEVENT
BEGIN:VEVENT
DTSTART;TZID=UTC:20250927T171500
DTEND;TZID=UTC:20250927T181500
DTSTAMP:20260422T173603
CREATED:20240229T223222Z
LAST-MODIFIED:20260214T202941Z
UID:10001127-1758993300-1758996900@stroseoflimaparish.org
SUMMARY:Saturday evening vigil Mass
DESCRIPTION:Vigil Mass for Sunday
URL:https://stroseoflimaparish.org/event/saturday-evening-vigil-mass-2/2025-09-27
END:VEVENT
BEGIN:VEVENT
DTSTART;VALUE=DATE:20250928
DTEND;VALUE=DATE:20250929
DTSTAMP:20260422T173603
CREATED:20240212T224437Z
LAST-MODIFIED:20250310T193542Z
UID:10003785-1759046400-1759078800@stroseoflimaparish.org
SUMMARY:Mass Schedule
DESCRIPTION:8am (church and livestreamed)\, 10am (Family Mass)\, 12pm (choir) & 5:15pm (Contemporary Music)
URL:https://stroseoflimaparish.org/event/mass-schedule/2025-09-28
END:VEVENT
BEGIN:VEVENT
DTSTART;TZID=America/New_York:20250929T190000
DTEND;TZID=America/New_York:20250929T193000
DTSTAMP:20260422T173603
CREATED:20240423T233625Z
LAST-MODIFIED:20260214T200241Z
UID:10002500-1759172400-1759174200@stroseoflimaparish.org
SUMMARY:Weekly Evening Rosary
DESCRIPTION:The Rosary Society along with the Men of Solidarity invite you to join them to pray the rosary on Monday evenings\, in church\, at 7pm.
URL:https://stroseoflimaparish.org/event/weekly-evening-rosary/2025-09-29
END:VEVENT
BEGIN:VEVENT
DTSTART;TZID=UTC:20250929T193000
DTEND;TZID=UTC:20250929T210000
DTSTAMP:20260422T173603
CREATED:20240212T203034Z
LAST-MODIFIED:20260214T200106Z
UID:10001700-1759174200-1759179600@stroseoflimaparish.org
SUMMARY:Monday Evening Mass & Holy Hour
DESCRIPTION:Evening Mass followed by Holy Hour – spend some time with Our Lord.
URL:https://stroseoflimaparish.org/event/monday-evening-mass-holy-hour/2025-09-29
ATTACH;FMTTYPE=image/jpeg:https://stroseoflimaparish.org/wp-content/uploads/2024/01/st-rose-of-lima-rc-church-home-bulletin.jpg
END:VEVENT
BEGIN:VEVENT
DTSTART;TZID=America/New_York:20251001T130000
DTEND;TZID=America/New_York:20251001T140000
DTSTAMP:20260422T173603
CREATED:20250926T142748Z
LAST-MODIFIED:20260329T145026Z
UID:10001982-1759323600-1759327200@stroseoflimaparish.org
SUMMARY:Al-Anon Meeting
DESCRIPTION:Meeting at the Fr. Graham Center meeting room.
URL:https://stroseoflimaparish.org/event/al-anon-meeting-2/2025-10-01
END:VEVENT
BEGIN:VEVENT
DTSTART;TZID=UTC:20251002T080000
DTEND;TZID=UTC:20251002T083000
DTSTAMP:20260422T173603
CREATED:20240212T230544Z
LAST-MODIFIED:20260224T014143Z
UID:10003931-1759392000-1759393800@stroseoflimaparish.org
SUMMARY:Weekly Holy Hour
DESCRIPTION:Come and spend some time with Our Lord!
URL:https://stroseoflimaparish.org/event/weekly-holy-hour/2025-10-02
END:VEVENT
BEGIN:VEVENT
DTSTART;TZID=America/New_York:20251002T080000
DTEND;TZID=America/New_York:20251002T083000
DTSTAMP:20260422T173603
CREATED:20250922T161556Z
LAST-MODIFIED:20250922T161556Z
UID:10003936-1759392000-1759393800@stroseoflimaparish.org
SUMMARY:Holy Hour and Rosary for Life
DESCRIPTION:As part of our Respect Life Month offerings\, this morning’s holy hour will include a Rosary for Life – please join us!
URL:https://stroseoflimaparish.org/event/holy-hour-and-rosary-for-life
ATTACH;FMTTYPE=image/jpeg:https://stroseoflimaparish.org/wp-content/uploads/2025/09/Holy-Hour-and-Rosary-for-Life-25-small.jpg
END:VEVENT
BEGIN:VEVENT
DTSTART;TZID=UTC:20251002T193000
DTEND;TZID=UTC:20251002T210000
DTSTAMP:20260422T173603
CREATED:20250708T203329Z
LAST-MODIFIED:20260214T203116Z
UID:10003210-1759433400-1759438800@stroseoflimaparish.org
SUMMARY:AA
DESCRIPTION:Meeting location: Fr. Graham Center meeting room or contact Outreach at 516.798.4954
URL:https://stroseoflimaparish.org/event/aa-2-2/2025-10-02
END:VEVENT
END:VCALENDAR