BEGIN:VCALENDAR
VERSION:2.0
PRODID:-//St Rose of Lima Church - ECPv6.15.20//NONSGML v1.0//EN
CALSCALE:GREGORIAN
METHOD:PUBLISH
X-ORIGINAL-URL:https://stroseoflimaparish.org
X-WR-CALDESC:Events for St Rose of Lima Church
REFRESH-INTERVAL;VALUE=DURATION:PT1H
X-Robots-Tag:noindex
X-PUBLISHED-TTL:PT1H
BEGIN:VTIMEZONE
TZID:America/New_York
BEGIN:DAYLIGHT
TZOFFSETFROM:-0500
TZOFFSETTO:-0400
TZNAME:EDT
DTSTART:20240310T070000
END:DAYLIGHT
BEGIN:STANDARD
TZOFFSETFROM:-0400
TZOFFSETTO:-0500
TZNAME:EST
DTSTART:20241103T060000
END:STANDARD
BEGIN:DAYLIGHT
TZOFFSETFROM:-0500
TZOFFSETTO:-0400
TZNAME:EDT
DTSTART:20250309T070000
END:DAYLIGHT
BEGIN:STANDARD
TZOFFSETFROM:-0400
TZOFFSETTO:-0500
TZNAME:EST
DTSTART:20251102T060000
END:STANDARD
BEGIN:DAYLIGHT
TZOFFSETFROM:-0500
TZOFFSETTO:-0400
TZNAME:EDT
DTSTART:20260308T070000
END:DAYLIGHT
BEGIN:STANDARD
TZOFFSETFROM:-0400
TZOFFSETTO:-0500
TZNAME:EST
DTSTART:20261101T060000
END:STANDARD
END:VTIMEZONE
BEGIN:VTIMEZONE
TZID:UTC
BEGIN:STANDARD
TZOFFSETFROM:+0000
TZOFFSETTO:+0000
TZNAME:UTC
DTSTART:20240101T000000
END:STANDARD
END:VTIMEZONE
BEGIN:VEVENT
DTSTART;TZID=America/New_York:20250929T190000
DTEND;TZID=America/New_York:20250929T193000
DTSTAMP:20260422T201432
CREATED:20240423T233625Z
LAST-MODIFIED:20260214T200241Z
UID:10002500-1759172400-1759174200@stroseoflimaparish.org
SUMMARY:Weekly Evening Rosary
DESCRIPTION:The Rosary Society along with the Men of Solidarity invite you to join them to pray the rosary on Monday evenings\, in church\, at 7pm.
URL:https://stroseoflimaparish.org/event/weekly-evening-rosary/2025-09-29
END:VEVENT
BEGIN:VEVENT
DTSTART;TZID=UTC:20250929T193000
DTEND;TZID=UTC:20250929T210000
DTSTAMP:20260422T201432
CREATED:20240212T203034Z
LAST-MODIFIED:20260214T200106Z
UID:10001700-1759174200-1759179600@stroseoflimaparish.org
SUMMARY:Monday Evening Mass & Holy Hour
DESCRIPTION:Evening Mass followed by Holy Hour – spend some time with Our Lord.
URL:https://stroseoflimaparish.org/event/monday-evening-mass-holy-hour/2025-09-29
ATTACH;FMTTYPE=image/jpeg:https://stroseoflimaparish.org/wp-content/uploads/2024/01/st-rose-of-lima-rc-church-home-bulletin.jpg
END:VEVENT
BEGIN:VEVENT
DTSTART;TZID=America/New_York:20251001T130000
DTEND;TZID=America/New_York:20251001T140000
DTSTAMP:20260422T201432
CREATED:20250926T142748Z
LAST-MODIFIED:20260329T145026Z
UID:10001982-1759323600-1759327200@stroseoflimaparish.org
SUMMARY:Al-Anon Meeting
DESCRIPTION:Meeting at the Fr. Graham Center meeting room.
URL:https://stroseoflimaparish.org/event/al-anon-meeting-2/2025-10-01
END:VEVENT
BEGIN:VEVENT
DTSTART;TZID=UTC:20251002T080000
DTEND;TZID=UTC:20251002T083000
DTSTAMP:20260422T201432
CREATED:20240212T230544Z
LAST-MODIFIED:20260224T014143Z
UID:10003931-1759392000-1759393800@stroseoflimaparish.org
SUMMARY:Weekly Holy Hour
DESCRIPTION:Come and spend some time with Our Lord!
URL:https://stroseoflimaparish.org/event/weekly-holy-hour/2025-10-02
END:VEVENT
BEGIN:VEVENT
DTSTART;TZID=America/New_York:20251002T080000
DTEND;TZID=America/New_York:20251002T083000
DTSTAMP:20260422T201432
CREATED:20250922T161556Z
LAST-MODIFIED:20250922T161556Z
UID:10003936-1759392000-1759393800@stroseoflimaparish.org
SUMMARY:Holy Hour and Rosary for Life
DESCRIPTION:As part of our Respect Life Month offerings\, this morning’s holy hour will include a Rosary for Life – please join us!
URL:https://stroseoflimaparish.org/event/holy-hour-and-rosary-for-life
ATTACH;FMTTYPE=image/jpeg:https://stroseoflimaparish.org/wp-content/uploads/2025/09/Holy-Hour-and-Rosary-for-Life-25-small.jpg
END:VEVENT
BEGIN:VEVENT
DTSTART;TZID=UTC:20251002T193000
DTEND;TZID=UTC:20251002T210000
DTSTAMP:20260422T201432
CREATED:20250708T203329Z
LAST-MODIFIED:20260214T203116Z
UID:10003210-1759433400-1759438800@stroseoflimaparish.org
SUMMARY:AA
DESCRIPTION:Meeting location: Fr. Graham Center meeting room or contact Outreach at 516.798.4954
URL:https://stroseoflimaparish.org/event/aa-2-2/2025-10-02
END:VEVENT
BEGIN:VEVENT
DTSTART;TZID=UTC:20251004T071500
DTEND;TZID=UTC:20251004T080000
DTSTAMP:20260422T201432
CREATED:20240229T220945Z
LAST-MODIFIED:20251104T164754Z
UID:10003554-1759562100-1759564800@stroseoflimaparish.org
SUMMARY:1st Saturday Devotion
DESCRIPTION:
URL:https://stroseoflimaparish.org/event/1st-saturday-devotion/2025-10-04
END:VEVENT
BEGIN:VEVENT
DTSTART;TZID=UTC:20251004T080000
DTEND;TZID=UTC:20251004T083000
DTSTAMP:20260422T201432
CREATED:20240229T221346Z
LAST-MODIFIED:20251104T165344Z
UID:10003565-1759564800-1759566600@stroseoflimaparish.org
SUMMARY:Anointing Mass
DESCRIPTION:
URL:https://stroseoflimaparish.org/event/anointing-mass/2025-10-04
END:VEVENT
BEGIN:VEVENT
DTSTART;TZID=America/New_York:20251004T100000
DTEND;TZID=America/New_York:20251004T103000
DTSTAMP:20260422T201432
CREATED:20241002T155400Z
LAST-MODIFIED:20251004T004509Z
UID:10003121-1759572000-1759573800@stroseoflimaparish.org
SUMMARY:Blessing of the Animals
DESCRIPTION:
URL:https://stroseoflimaparish.org/event/blessing-of-the-animals
ATTACH;FMTTYPE=image/jpeg:https://stroseoflimaparish.org/wp-content/uploads/2023/10/animalblessing2.jpg
END:VEVENT
BEGIN:VEVENT
DTSTART;TZID=UTC:20251004T160000
DTEND;TZID=UTC:20251004T170000
DTSTAMP:20260422T201432
CREATED:20240229T223712Z
LAST-MODIFIED:20260320T005919Z
UID:10001384-1759593600-1759597200@stroseoflimaparish.org
SUMMARY:Reconciliation (Confession)
DESCRIPTION:The Sacrament of Reconciliation (Confession) is celebrated on Saturdays from 4 – 5pm and following the 9am Mass Monday-Friday.
URL:https://stroseoflimaparish.org/event/reconciliation-confession-2/2025-10-04
END:VEVENT
BEGIN:VEVENT
DTSTART;TZID=UTC:20251004T171500
DTEND;TZID=UTC:20251004T181500
DTSTAMP:20260422T201432
CREATED:20240229T223222Z
LAST-MODIFIED:20260214T202941Z
UID:10001128-1759598100-1759601700@stroseoflimaparish.org
SUMMARY:Saturday evening vigil Mass
DESCRIPTION:Vigil Mass for Sunday
URL:https://stroseoflimaparish.org/event/saturday-evening-vigil-mass-2/2025-10-04
END:VEVENT
BEGIN:VEVENT
DTSTART;VALUE=DATE:20251005
DTEND;VALUE=DATE:20251006
DTSTAMP:20260422T201432
CREATED:20250922T154146Z
LAST-MODIFIED:20250922T155731Z
UID:10003129-1759622400-1759708799@stroseoflimaparish.org
SUMMARY:Spiritual God-Parent Baby Shower begins
DESCRIPTION:During the month of October\, which is Respect Life Month\, we conclude our Spiritual God-Parent Adoption Program with a baby shower to assist mothers in need. Items may be dropped off in church; please see the flyer for more information and thank you for your generosity.
URL:https://stroseoflimaparish.org/event/spiritual-god-parent-baby-shower-2
ATTACH;FMTTYPE=image/png:https://stroseoflimaparish.org/wp-content/uploads/2024/10/Respect-Life-month-October-2025-2.png
END:VEVENT
BEGIN:VEVENT
DTSTART;VALUE=DATE:20251005
DTEND;VALUE=DATE:20251006
DTSTAMP:20260422T201432
CREATED:20240212T224437Z
LAST-MODIFIED:20250310T193542Z
UID:10003786-1759651200-1759683600@stroseoflimaparish.org
SUMMARY:Mass Schedule
DESCRIPTION:8am (church and livestreamed)\, 10am (Family Mass)\, 12pm (choir) & 5:15pm (Contemporary Music)
URL:https://stroseoflimaparish.org/event/mass-schedule/2025-10-05
END:VEVENT
BEGIN:VEVENT
DTSTART;TZID=America/New_York:20251006T190000
DTEND;TZID=America/New_York:20251006T193000
DTSTAMP:20260422T201432
CREATED:20240423T233625Z
LAST-MODIFIED:20260214T200241Z
UID:10002501-1759777200-1759779000@stroseoflimaparish.org
SUMMARY:Weekly Evening Rosary
DESCRIPTION:The Rosary Society along with the Men of Solidarity invite you to join them to pray the rosary on Monday evenings\, in church\, at 7pm.
URL:https://stroseoflimaparish.org/event/weekly-evening-rosary/2025-10-06
END:VEVENT
BEGIN:VEVENT
DTSTART;TZID=UTC:20251006T193000
DTEND;TZID=UTC:20251006T210000
DTSTAMP:20260422T201432
CREATED:20240212T203034Z
LAST-MODIFIED:20260214T200106Z
UID:10001701-1759779000-1759784400@stroseoflimaparish.org
SUMMARY:Monday Evening Mass & Holy Hour
DESCRIPTION:Evening Mass followed by Holy Hour – spend some time with Our Lord.
URL:https://stroseoflimaparish.org/event/monday-evening-mass-holy-hour/2025-10-06
ATTACH;FMTTYPE=image/jpeg:https://stroseoflimaparish.org/wp-content/uploads/2024/01/st-rose-of-lima-rc-church-home-bulletin.jpg
END:VEVENT
BEGIN:VEVENT
DTSTART;TZID=UTC:20251007T193000
DTEND;TZID=UTC:20251007T210000
DTSTAMP:20260422T201432
CREATED:20240407T235825Z
LAST-MODIFIED:20260303T145835Z
UID:10003929-1759865400-1759870800@stroseoflimaparish.org
SUMMARY:Respect Life Committee Meeting
DESCRIPTION:Rectory Board Room
URL:https://stroseoflimaparish.org/event/respect-life-committee-meeting-2-2/2025-10-07
END:VEVENT
BEGIN:VEVENT
DTSTART;TZID=America/New_York:20251008T130000
DTEND;TZID=America/New_York:20251008T140000
DTSTAMP:20260422T201432
CREATED:20250926T142748Z
LAST-MODIFIED:20260329T145026Z
UID:10001983-1759928400-1759932000@stroseoflimaparish.org
SUMMARY:Al-Anon Meeting
DESCRIPTION:Meeting at the Fr. Graham Center meeting room.
URL:https://stroseoflimaparish.org/event/al-anon-meeting-2/2025-10-08
END:VEVENT
BEGIN:VEVENT
DTSTART;TZID=UTC:20251009T080000
DTEND;TZID=UTC:20251009T083000
DTSTAMP:20260422T201432
CREATED:20240212T230544Z
LAST-MODIFIED:20260224T014143Z
UID:10003932-1759996800-1759998600@stroseoflimaparish.org
SUMMARY:Weekly Holy Hour
DESCRIPTION:Come and spend some time with Our Lord!
URL:https://stroseoflimaparish.org/event/weekly-holy-hour/2025-10-09
END:VEVENT
BEGIN:VEVENT
DTSTART;TZID=UTC:20251009T193000
DTEND;TZID=UTC:20251009T210000
DTSTAMP:20260422T201432
CREATED:20250708T203329Z
LAST-MODIFIED:20260214T203116Z
UID:10003211-1760038200-1760043600@stroseoflimaparish.org
SUMMARY:AA
DESCRIPTION:Meeting location: Fr. Graham Center meeting room or contact Outreach at 516.798.4954
URL:https://stroseoflimaparish.org/event/aa-2-2/2025-10-09
END:VEVENT
BEGIN:VEVENT
DTSTART;TZID=America/New_York:20251010T190000
DTEND;TZID=America/New_York:20251010T210000
DTSTAMP:20260422T201432
CREATED:20240524T145536Z
LAST-MODIFIED:20260126T163334Z
UID:10003937-1760122800-1760130000@stroseoflimaparish.org
SUMMARY:Faith and Sports
DESCRIPTION:Middle School Faith and Sports events – see bulletin for details
URL:https://stroseoflimaparish.org/event/faith-and-sports/2025-10-10
ATTACH;FMTTYPE=image/jpeg:https://stroseoflimaparish.org/wp-content/uploads/2024/02/st-rose-of-lima-rc-church-faith-and-sports-logo.jpg
END:VEVENT
BEGIN:VEVENT
DTSTART;TZID=UTC:20251011T160000
DTEND;TZID=UTC:20251011T170000
DTSTAMP:20260422T201432
CREATED:20240229T223712Z
LAST-MODIFIED:20260320T005919Z
UID:10001385-1760198400-1760202000@stroseoflimaparish.org
SUMMARY:Reconciliation (Confession)
DESCRIPTION:The Sacrament of Reconciliation (Confession) is celebrated on Saturdays from 4 – 5pm and following the 9am Mass Monday-Friday.
URL:https://stroseoflimaparish.org/event/reconciliation-confession-2/2025-10-11
END:VEVENT
BEGIN:VEVENT
DTSTART;TZID=UTC:20251011T171500
DTEND;TZID=UTC:20251011T181500
DTSTAMP:20260422T201432
CREATED:20240229T223222Z
LAST-MODIFIED:20260214T202941Z
UID:10001129-1760202900-1760206500@stroseoflimaparish.org
SUMMARY:Saturday evening vigil Mass
DESCRIPTION:Vigil Mass for Sunday
URL:https://stroseoflimaparish.org/event/saturday-evening-vigil-mass-2/2025-10-11
END:VEVENT
BEGIN:VEVENT
DTSTART;VALUE=DATE:20251012
DTEND;VALUE=DATE:20251013
DTSTAMP:20260422T201432
CREATED:20240212T224437Z
LAST-MODIFIED:20250310T193542Z
UID:10003787-1760256000-1760288400@stroseoflimaparish.org
SUMMARY:Mass Schedule
DESCRIPTION:8am (church and livestreamed)\, 10am (Family Mass)\, 12pm (choir) & 5:15pm (Contemporary Music)
URL:https://stroseoflimaparish.org/event/mass-schedule/2025-10-12
END:VEVENT
BEGIN:VEVENT
DTSTART;VALUE=DATE:20251013
DTEND;VALUE=DATE:20251014
DTSTAMP:20260422T201432
CREATED:20240722T143933Z
LAST-MODIFIED:20241023T153247Z
UID:10003489-1760342400-1760374800@stroseoflimaparish.org
SUMMARY:Civic Holiday Mass Schedule
DESCRIPTION:Masses today are at 7:30 and 9:00 am; no evening Mass. Rectory closed
URL:https://stroseoflimaparish.org/event/civic-holiday-mass-schedule/2025-10-13
END:VEVENT
BEGIN:VEVENT
DTSTART;TZID=America/New_York:20251013T120000
DTEND;TZID=America/New_York:20251013T123000
DTSTAMP:20260422T201432
CREATED:20250922T151648Z
LAST-MODIFIED:20250922T151648Z
UID:10003926-1760356800-1760358600@stroseoflimaparish.org
SUMMARY:Miracle of the Sun Anniversary
DESCRIPTION:To celebrate the 108th anniversary of the Miracle of the Sun at Fatima\, please join us in front of the church to pray the Rosary\, to pray for peace in our country and the world.
URL:https://stroseoflimaparish.org/event/miracle-of-the-sun-anniversary
END:VEVENT
BEGIN:VEVENT
DTSTART;TZID=America/New_York:20251014T193000
DTEND;TZID=America/New_York:20251014T210000
DTSTAMP:20260422T201432
CREATED:20240415T145611Z
LAST-MODIFIED:20251004T003842Z
UID:10004007-1760470200-1760475600@stroseoflimaparish.org
SUMMARY:St. Rose Institute
DESCRIPTION:Join us for various topics and discussions led by Tom Griffin.  Contact Thomasg@srolchurch.org for details and to register.
URL:https://stroseoflimaparish.org/event/st-rose-institute/2025-10-14
ATTACH;FMTTYPE=image/jpeg:https://stroseoflimaparish.org/wp-content/uploads/2024/11/St-Rose-Institute-logo-draft2.jpg
END:VEVENT
BEGIN:VEVENT
DTSTART;TZID=America/New_York:20251015T130000
DTEND;TZID=America/New_York:20251015T140000
DTSTAMP:20260422T201432
CREATED:20250926T142748Z
LAST-MODIFIED:20260329T145026Z
UID:10001984-1760533200-1760536800@stroseoflimaparish.org
SUMMARY:Al-Anon Meeting
DESCRIPTION:Meeting at the Fr. Graham Center meeting room.
URL:https://stroseoflimaparish.org/event/al-anon-meeting-2/2025-10-15
END:VEVENT
BEGIN:VEVENT
DTSTART;TZID=UTC:20251016T080000
DTEND;TZID=UTC:20251016T083000
DTSTAMP:20260422T201432
CREATED:20240212T230544Z
LAST-MODIFIED:20260224T014143Z
UID:10003933-1760601600-1760603400@stroseoflimaparish.org
SUMMARY:Weekly Holy Hour
DESCRIPTION:Come and spend some time with Our Lord!
URL:https://stroseoflimaparish.org/event/weekly-holy-hour/2025-10-16
END:VEVENT
BEGIN:VEVENT
DTSTART;TZID=UTC:20251016T193000
DTEND;TZID=UTC:20251016T210000
DTSTAMP:20260422T201432
CREATED:20250708T203329Z
LAST-MODIFIED:20260214T203116Z
UID:10003212-1760643000-1760648400@stroseoflimaparish.org
SUMMARY:AA
DESCRIPTION:Meeting location: Fr. Graham Center meeting room or contact Outreach at 516.798.4954
URL:https://stroseoflimaparish.org/event/aa-2-2/2025-10-16
END:VEVENT
BEGIN:VEVENT
DTSTART;TZID=UTC:20251018T160000
DTEND;TZID=UTC:20251018T170000
DTSTAMP:20260422T201432
CREATED:20240229T223712Z
LAST-MODIFIED:20260320T005919Z
UID:10001386-1760803200-1760806800@stroseoflimaparish.org
SUMMARY:Reconciliation (Confession)
DESCRIPTION:The Sacrament of Reconciliation (Confession) is celebrated on Saturdays from 4 – 5pm and following the 9am Mass Monday-Friday.
URL:https://stroseoflimaparish.org/event/reconciliation-confession-2/2025-10-18
END:VEVENT
END:VCALENDAR