BEGIN:VCALENDAR
VERSION:2.0
PRODID:-//St Rose of Lima Church - ECPv6.15.20//NONSGML v1.0//EN
CALSCALE:GREGORIAN
METHOD:PUBLISH
X-WR-CALNAME:St Rose of Lima Church
X-ORIGINAL-URL:https://stroseoflimaparish.org
X-WR-CALDESC:Events for St Rose of Lima Church
REFRESH-INTERVAL;VALUE=DURATION:PT1H
X-Robots-Tag:noindex
X-PUBLISHED-TTL:PT1H
BEGIN:VTIMEZONE
TZID:UTC
BEGIN:STANDARD
TZOFFSETFROM:+0000
TZOFFSETTO:+0000
TZNAME:UTC
DTSTART:20250101T000000
END:STANDARD
END:VTIMEZONE
BEGIN:VEVENT
DTSTART;TZID=UTC:20260420T193000
DTEND;TZID=UTC:20260420T210000
DTSTAMP:20260420T101500
CREATED:20240212T203034Z
LAST-MODIFIED:20260214T200106Z
UID:10001729-1776713400-1776718800@stroseoflimaparish.org
SUMMARY:Monday Evening Mass & Holy Hour
DESCRIPTION:Evening Mass followed by Holy Hour – spend some time with Our Lord.
URL:https://stroseoflimaparish.org/event/monday-evening-mass-holy-hour/2026-04-20
ATTACH;FMTTYPE=image/jpeg:https://stroseoflimaparish.org/wp-content/uploads/2024/01/st-rose-of-lima-rc-church-home-bulletin.jpg
END:VEVENT
BEGIN:VEVENT
DTSTART;TZID=UTC:20260427T193000
DTEND;TZID=UTC:20260427T210000
DTSTAMP:20260420T101500
CREATED:20240212T203034Z
LAST-MODIFIED:20260214T200106Z
UID:10001730-1777318200-1777323600@stroseoflimaparish.org
SUMMARY:Monday Evening Mass & Holy Hour
DESCRIPTION:Evening Mass followed by Holy Hour – spend some time with Our Lord.
URL:https://stroseoflimaparish.org/event/monday-evening-mass-holy-hour/2026-04-27
ATTACH;FMTTYPE=image/jpeg:https://stroseoflimaparish.org/wp-content/uploads/2024/01/st-rose-of-lima-rc-church-home-bulletin.jpg
END:VEVENT
BEGIN:VEVENT
DTSTART;TZID=UTC:20260504T193000
DTEND;TZID=UTC:20260504T210000
DTSTAMP:20260420T101500
CREATED:20240212T203034Z
LAST-MODIFIED:20260214T200106Z
UID:10001731-1777923000-1777928400@stroseoflimaparish.org
SUMMARY:Monday Evening Mass & Holy Hour
DESCRIPTION:Evening Mass followed by Holy Hour – spend some time with Our Lord.
URL:https://stroseoflimaparish.org/event/monday-evening-mass-holy-hour/2026-05-04
ATTACH;FMTTYPE=image/jpeg:https://stroseoflimaparish.org/wp-content/uploads/2024/01/st-rose-of-lima-rc-church-home-bulletin.jpg
END:VEVENT
BEGIN:VEVENT
DTSTART;TZID=UTC:20260511T193000
DTEND;TZID=UTC:20260511T210000
DTSTAMP:20260420T101500
CREATED:20240212T203034Z
LAST-MODIFIED:20260214T200106Z
UID:10001732-1778527800-1778533200@stroseoflimaparish.org
SUMMARY:Monday Evening Mass & Holy Hour
DESCRIPTION:Evening Mass followed by Holy Hour – spend some time with Our Lord.
URL:https://stroseoflimaparish.org/event/monday-evening-mass-holy-hour/2026-05-11
ATTACH;FMTTYPE=image/jpeg:https://stroseoflimaparish.org/wp-content/uploads/2024/01/st-rose-of-lima-rc-church-home-bulletin.jpg
END:VEVENT
BEGIN:VEVENT
DTSTART;TZID=UTC:20260518T193000
DTEND;TZID=UTC:20260518T210000
DTSTAMP:20260420T101500
CREATED:20240212T203034Z
LAST-MODIFIED:20260214T200106Z
UID:10001733-1779132600-1779138000@stroseoflimaparish.org
SUMMARY:Monday Evening Mass & Holy Hour
DESCRIPTION:Evening Mass followed by Holy Hour – spend some time with Our Lord.
URL:https://stroseoflimaparish.org/event/monday-evening-mass-holy-hour/2026-05-18
ATTACH;FMTTYPE=image/jpeg:https://stroseoflimaparish.org/wp-content/uploads/2024/01/st-rose-of-lima-rc-church-home-bulletin.jpg
END:VEVENT
BEGIN:VEVENT
DTSTART;TZID=UTC:20260525T193000
DTEND;TZID=UTC:20260525T210000
DTSTAMP:20260420T101500
CREATED:20240212T203034Z
LAST-MODIFIED:20260214T200106Z
UID:10001734-1779737400-1779742800@stroseoflimaparish.org
SUMMARY:Monday Evening Mass & Holy Hour
DESCRIPTION:Evening Mass followed by Holy Hour – spend some time with Our Lord.
URL:https://stroseoflimaparish.org/event/monday-evening-mass-holy-hour/2026-05-25
ATTACH;FMTTYPE=image/jpeg:https://stroseoflimaparish.org/wp-content/uploads/2024/01/st-rose-of-lima-rc-church-home-bulletin.jpg
END:VEVENT
BEGIN:VEVENT
DTSTART;TZID=UTC:20260601T193000
DTEND;TZID=UTC:20260601T210000
DTSTAMP:20260420T101500
CREATED:20240212T203034Z
LAST-MODIFIED:20260214T200106Z
UID:10001735-1780342200-1780347600@stroseoflimaparish.org
SUMMARY:Monday Evening Mass & Holy Hour
DESCRIPTION:Evening Mass followed by Holy Hour – spend some time with Our Lord.
URL:https://stroseoflimaparish.org/event/monday-evening-mass-holy-hour/2026-06-01
ATTACH;FMTTYPE=image/jpeg:https://stroseoflimaparish.org/wp-content/uploads/2024/01/st-rose-of-lima-rc-church-home-bulletin.jpg
END:VEVENT
BEGIN:VEVENT
DTSTART;TZID=UTC:20260608T193000
DTEND;TZID=UTC:20260608T210000
DTSTAMP:20260420T101500
CREATED:20240212T203034Z
LAST-MODIFIED:20260214T200106Z
UID:10001736-1780947000-1780952400@stroseoflimaparish.org
SUMMARY:Monday Evening Mass & Holy Hour
DESCRIPTION:Evening Mass followed by Holy Hour – spend some time with Our Lord.
URL:https://stroseoflimaparish.org/event/monday-evening-mass-holy-hour/2026-06-08
ATTACH;FMTTYPE=image/jpeg:https://stroseoflimaparish.org/wp-content/uploads/2024/01/st-rose-of-lima-rc-church-home-bulletin.jpg
END:VEVENT
BEGIN:VEVENT
DTSTART;TZID=UTC:20260615T193000
DTEND;TZID=UTC:20260615T210000
DTSTAMP:20260420T101500
CREATED:20240212T203034Z
LAST-MODIFIED:20260214T200106Z
UID:10001737-1781551800-1781557200@stroseoflimaparish.org
SUMMARY:Monday Evening Mass & Holy Hour
DESCRIPTION:Evening Mass followed by Holy Hour – spend some time with Our Lord.
URL:https://stroseoflimaparish.org/event/monday-evening-mass-holy-hour/2026-06-15
ATTACH;FMTTYPE=image/jpeg:https://stroseoflimaparish.org/wp-content/uploads/2024/01/st-rose-of-lima-rc-church-home-bulletin.jpg
END:VEVENT
BEGIN:VEVENT
DTSTART;TZID=UTC:20260622T193000
DTEND;TZID=UTC:20260622T210000
DTSTAMP:20260420T101500
CREATED:20240212T203034Z
LAST-MODIFIED:20260214T200106Z
UID:10001738-1782156600-1782162000@stroseoflimaparish.org
SUMMARY:Monday Evening Mass & Holy Hour
DESCRIPTION:Evening Mass followed by Holy Hour – spend some time with Our Lord.
URL:https://stroseoflimaparish.org/event/monday-evening-mass-holy-hour/2026-06-22
ATTACH;FMTTYPE=image/jpeg:https://stroseoflimaparish.org/wp-content/uploads/2024/01/st-rose-of-lima-rc-church-home-bulletin.jpg
END:VEVENT
BEGIN:VEVENT
DTSTART;TZID=UTC:20260629T193000
DTEND;TZID=UTC:20260629T210000
DTSTAMP:20260420T101500
CREATED:20240212T203034Z
LAST-MODIFIED:20260214T200106Z
UID:10001739-1782761400-1782766800@stroseoflimaparish.org
SUMMARY:Monday Evening Mass & Holy Hour
DESCRIPTION:Evening Mass followed by Holy Hour – spend some time with Our Lord.
URL:https://stroseoflimaparish.org/event/monday-evening-mass-holy-hour/2026-06-29
ATTACH;FMTTYPE=image/jpeg:https://stroseoflimaparish.org/wp-content/uploads/2024/01/st-rose-of-lima-rc-church-home-bulletin.jpg
END:VEVENT
BEGIN:VEVENT
DTSTART;TZID=UTC:20260706T193000
DTEND;TZID=UTC:20260706T210000
DTSTAMP:20260420T101500
CREATED:20240212T203034Z
LAST-MODIFIED:20260214T200106Z
UID:10001740-1783366200-1783371600@stroseoflimaparish.org
SUMMARY:Monday Evening Mass & Holy Hour
DESCRIPTION:Evening Mass followed by Holy Hour – spend some time with Our Lord.
URL:https://stroseoflimaparish.org/event/monday-evening-mass-holy-hour/2026-07-06
ATTACH;FMTTYPE=image/jpeg:https://stroseoflimaparish.org/wp-content/uploads/2024/01/st-rose-of-lima-rc-church-home-bulletin.jpg
END:VEVENT
BEGIN:VEVENT
DTSTART;TZID=UTC:20260713T193000
DTEND;TZID=UTC:20260713T210000
DTSTAMP:20260420T101500
CREATED:20240212T203034Z
LAST-MODIFIED:20260214T200106Z
UID:10001741-1783971000-1783976400@stroseoflimaparish.org
SUMMARY:Monday Evening Mass & Holy Hour
DESCRIPTION:Evening Mass followed by Holy Hour – spend some time with Our Lord.
URL:https://stroseoflimaparish.org/event/monday-evening-mass-holy-hour/2026-07-13
ATTACH;FMTTYPE=image/jpeg:https://stroseoflimaparish.org/wp-content/uploads/2024/01/st-rose-of-lima-rc-church-home-bulletin.jpg
END:VEVENT
BEGIN:VEVENT
DTSTART;TZID=UTC:20260720T193000
DTEND;TZID=UTC:20260720T210000
DTSTAMP:20260420T101500
CREATED:20240212T203034Z
LAST-MODIFIED:20260214T200106Z
UID:10001742-1784575800-1784581200@stroseoflimaparish.org
SUMMARY:Monday Evening Mass & Holy Hour
DESCRIPTION:Evening Mass followed by Holy Hour – spend some time with Our Lord.
URL:https://stroseoflimaparish.org/event/monday-evening-mass-holy-hour/2026-07-20
ATTACH;FMTTYPE=image/jpeg:https://stroseoflimaparish.org/wp-content/uploads/2024/01/st-rose-of-lima-rc-church-home-bulletin.jpg
END:VEVENT
BEGIN:VEVENT
DTSTART;TZID=UTC:20260727T193000
DTEND;TZID=UTC:20260727T210000
DTSTAMP:20260420T101500
CREATED:20240212T203034Z
LAST-MODIFIED:20260214T200106Z
UID:10001743-1785180600-1785186000@stroseoflimaparish.org
SUMMARY:Monday Evening Mass & Holy Hour
DESCRIPTION:Evening Mass followed by Holy Hour – spend some time with Our Lord.
URL:https://stroseoflimaparish.org/event/monday-evening-mass-holy-hour/2026-07-27
ATTACH;FMTTYPE=image/jpeg:https://stroseoflimaparish.org/wp-content/uploads/2024/01/st-rose-of-lima-rc-church-home-bulletin.jpg
END:VEVENT
BEGIN:VEVENT
DTSTART;TZID=UTC:20260803T193000
DTEND;TZID=UTC:20260803T210000
DTSTAMP:20260420T101500
CREATED:20240212T203034Z
LAST-MODIFIED:20260214T200106Z
UID:10001744-1785785400-1785790800@stroseoflimaparish.org
SUMMARY:Monday Evening Mass & Holy Hour
DESCRIPTION:Evening Mass followed by Holy Hour – spend some time with Our Lord.
URL:https://stroseoflimaparish.org/event/monday-evening-mass-holy-hour/2026-08-03
ATTACH;FMTTYPE=image/jpeg:https://stroseoflimaparish.org/wp-content/uploads/2024/01/st-rose-of-lima-rc-church-home-bulletin.jpg
END:VEVENT
BEGIN:VEVENT
DTSTART;TZID=UTC:20260810T193000
DTEND;TZID=UTC:20260810T210000
DTSTAMP:20260420T101500
CREATED:20240212T203034Z
LAST-MODIFIED:20260214T200106Z
UID:10001745-1786390200-1786395600@stroseoflimaparish.org
SUMMARY:Monday Evening Mass & Holy Hour
DESCRIPTION:Evening Mass followed by Holy Hour – spend some time with Our Lord.
URL:https://stroseoflimaparish.org/event/monday-evening-mass-holy-hour/2026-08-10
ATTACH;FMTTYPE=image/jpeg:https://stroseoflimaparish.org/wp-content/uploads/2024/01/st-rose-of-lima-rc-church-home-bulletin.jpg
END:VEVENT
BEGIN:VEVENT
DTSTART;TZID=UTC:20260817T193000
DTEND;TZID=UTC:20260817T210000
DTSTAMP:20260420T101500
CREATED:20240212T203034Z
LAST-MODIFIED:20260214T200106Z
UID:10001746-1786995000-1787000400@stroseoflimaparish.org
SUMMARY:Monday Evening Mass & Holy Hour
DESCRIPTION:Evening Mass followed by Holy Hour – spend some time with Our Lord.
URL:https://stroseoflimaparish.org/event/monday-evening-mass-holy-hour/2026-08-17
ATTACH;FMTTYPE=image/jpeg:https://stroseoflimaparish.org/wp-content/uploads/2024/01/st-rose-of-lima-rc-church-home-bulletin.jpg
END:VEVENT
BEGIN:VEVENT
DTSTART;TZID=UTC:20260824T193000
DTEND;TZID=UTC:20260824T210000
DTSTAMP:20260420T101500
CREATED:20240212T203034Z
LAST-MODIFIED:20260214T200106Z
UID:10001747-1787599800-1787605200@stroseoflimaparish.org
SUMMARY:Monday Evening Mass & Holy Hour
DESCRIPTION:Evening Mass followed by Holy Hour – spend some time with Our Lord.
URL:https://stroseoflimaparish.org/event/monday-evening-mass-holy-hour/2026-08-24
ATTACH;FMTTYPE=image/jpeg:https://stroseoflimaparish.org/wp-content/uploads/2024/01/st-rose-of-lima-rc-church-home-bulletin.jpg
END:VEVENT
BEGIN:VEVENT
DTSTART;TZID=UTC:20260831T193000
DTEND;TZID=UTC:20260831T210000
DTSTAMP:20260420T101500
CREATED:20240212T203034Z
LAST-MODIFIED:20260214T200106Z
UID:10001748-1788204600-1788210000@stroseoflimaparish.org
SUMMARY:Monday Evening Mass & Holy Hour
DESCRIPTION:Evening Mass followed by Holy Hour – spend some time with Our Lord.
URL:https://stroseoflimaparish.org/event/monday-evening-mass-holy-hour/2026-08-31
ATTACH;FMTTYPE=image/jpeg:https://stroseoflimaparish.org/wp-content/uploads/2024/01/st-rose-of-lima-rc-church-home-bulletin.jpg
END:VEVENT
BEGIN:VEVENT
DTSTART;TZID=UTC:20260907T193000
DTEND;TZID=UTC:20260907T210000
DTSTAMP:20260420T101500
CREATED:20240212T203034Z
LAST-MODIFIED:20260214T200106Z
UID:10001749-1788809400-1788814800@stroseoflimaparish.org
SUMMARY:Monday Evening Mass & Holy Hour
DESCRIPTION:Evening Mass followed by Holy Hour – spend some time with Our Lord.
URL:https://stroseoflimaparish.org/event/monday-evening-mass-holy-hour/2026-09-07
ATTACH;FMTTYPE=image/jpeg:https://stroseoflimaparish.org/wp-content/uploads/2024/01/st-rose-of-lima-rc-church-home-bulletin.jpg
END:VEVENT
BEGIN:VEVENT
DTSTART;TZID=UTC:20260914T193000
DTEND;TZID=UTC:20260914T210000
DTSTAMP:20260420T101500
CREATED:20240212T203034Z
LAST-MODIFIED:20260214T200106Z
UID:10001750-1789414200-1789419600@stroseoflimaparish.org
SUMMARY:Monday Evening Mass & Holy Hour
DESCRIPTION:Evening Mass followed by Holy Hour – spend some time with Our Lord.
URL:https://stroseoflimaparish.org/event/monday-evening-mass-holy-hour/2026-09-14
ATTACH;FMTTYPE=image/jpeg:https://stroseoflimaparish.org/wp-content/uploads/2024/01/st-rose-of-lima-rc-church-home-bulletin.jpg
END:VEVENT
BEGIN:VEVENT
DTSTART;TZID=UTC:20260921T193000
DTEND;TZID=UTC:20260921T210000
DTSTAMP:20260420T101500
CREATED:20240212T203034Z
LAST-MODIFIED:20260214T200106Z
UID:10001751-1790019000-1790024400@stroseoflimaparish.org
SUMMARY:Monday Evening Mass & Holy Hour
DESCRIPTION:Evening Mass followed by Holy Hour – spend some time with Our Lord.
URL:https://stroseoflimaparish.org/event/monday-evening-mass-holy-hour/2026-09-21
ATTACH;FMTTYPE=image/jpeg:https://stroseoflimaparish.org/wp-content/uploads/2024/01/st-rose-of-lima-rc-church-home-bulletin.jpg
END:VEVENT
BEGIN:VEVENT
DTSTART;TZID=UTC:20260928T193000
DTEND;TZID=UTC:20260928T210000
DTSTAMP:20260420T101500
CREATED:20240212T203034Z
LAST-MODIFIED:20260214T200106Z
UID:10001752-1790623800-1790629200@stroseoflimaparish.org
SUMMARY:Monday Evening Mass & Holy Hour
DESCRIPTION:Evening Mass followed by Holy Hour – spend some time with Our Lord.
URL:https://stroseoflimaparish.org/event/monday-evening-mass-holy-hour/2026-09-28
ATTACH;FMTTYPE=image/jpeg:https://stroseoflimaparish.org/wp-content/uploads/2024/01/st-rose-of-lima-rc-church-home-bulletin.jpg
END:VEVENT
BEGIN:VEVENT
DTSTART;TZID=UTC:20261005T193000
DTEND;TZID=UTC:20261005T210000
DTSTAMP:20260420T101500
CREATED:20240212T203034Z
LAST-MODIFIED:20260214T200106Z
UID:10001753-1791228600-1791234000@stroseoflimaparish.org
SUMMARY:Monday Evening Mass & Holy Hour
DESCRIPTION:Evening Mass followed by Holy Hour – spend some time with Our Lord.
URL:https://stroseoflimaparish.org/event/monday-evening-mass-holy-hour/2026-10-05
ATTACH;FMTTYPE=image/jpeg:https://stroseoflimaparish.org/wp-content/uploads/2024/01/st-rose-of-lima-rc-church-home-bulletin.jpg
END:VEVENT
BEGIN:VEVENT
DTSTART;TZID=UTC:20261012T193000
DTEND;TZID=UTC:20261012T210000
DTSTAMP:20260420T101500
CREATED:20240212T203034Z
LAST-MODIFIED:20260214T200106Z
UID:10001754-1791833400-1791838800@stroseoflimaparish.org
SUMMARY:Monday Evening Mass & Holy Hour
DESCRIPTION:Evening Mass followed by Holy Hour – spend some time with Our Lord.
URL:https://stroseoflimaparish.org/event/monday-evening-mass-holy-hour/2026-10-12
ATTACH;FMTTYPE=image/jpeg:https://stroseoflimaparish.org/wp-content/uploads/2024/01/st-rose-of-lima-rc-church-home-bulletin.jpg
END:VEVENT
BEGIN:VEVENT
DTSTART;TZID=UTC:20261019T193000
DTEND;TZID=UTC:20261019T210000
DTSTAMP:20260420T101500
CREATED:20240212T203034Z
LAST-MODIFIED:20260214T200106Z
UID:10001755-1792438200-1792443600@stroseoflimaparish.org
SUMMARY:Monday Evening Mass & Holy Hour
DESCRIPTION:Evening Mass followed by Holy Hour – spend some time with Our Lord.
URL:https://stroseoflimaparish.org/event/monday-evening-mass-holy-hour/2026-10-19
ATTACH;FMTTYPE=image/jpeg:https://stroseoflimaparish.org/wp-content/uploads/2024/01/st-rose-of-lima-rc-church-home-bulletin.jpg
END:VEVENT
BEGIN:VEVENT
DTSTART;TZID=UTC:20261026T193000
DTEND;TZID=UTC:20261026T210000
DTSTAMP:20260420T101500
CREATED:20240212T203034Z
LAST-MODIFIED:20260214T200106Z
UID:10001756-1793043000-1793048400@stroseoflimaparish.org
SUMMARY:Monday Evening Mass & Holy Hour
DESCRIPTION:Evening Mass followed by Holy Hour – spend some time with Our Lord.
URL:https://stroseoflimaparish.org/event/monday-evening-mass-holy-hour/2026-10-26
ATTACH;FMTTYPE=image/jpeg:https://stroseoflimaparish.org/wp-content/uploads/2024/01/st-rose-of-lima-rc-church-home-bulletin.jpg
END:VEVENT
BEGIN:VEVENT
DTSTART;TZID=UTC:20261102T193000
DTEND;TZID=UTC:20261102T210000
DTSTAMP:20260420T101500
CREATED:20240212T203034Z
LAST-MODIFIED:20260214T200106Z
UID:10001757-1793647800-1793653200@stroseoflimaparish.org
SUMMARY:Monday Evening Mass & Holy Hour
DESCRIPTION:Evening Mass followed by Holy Hour – spend some time with Our Lord.
URL:https://stroseoflimaparish.org/event/monday-evening-mass-holy-hour/2026-11-02
ATTACH;FMTTYPE=image/jpeg:https://stroseoflimaparish.org/wp-content/uploads/2024/01/st-rose-of-lima-rc-church-home-bulletin.jpg
END:VEVENT
BEGIN:VEVENT
DTSTART;TZID=UTC:20261109T193000
DTEND;TZID=UTC:20261109T210000
DTSTAMP:20260420T101500
CREATED:20240212T203034Z
LAST-MODIFIED:20260214T200106Z
UID:10001758-1794252600-1794258000@stroseoflimaparish.org
SUMMARY:Monday Evening Mass & Holy Hour
DESCRIPTION:Evening Mass followed by Holy Hour – spend some time with Our Lord.
URL:https://stroseoflimaparish.org/event/monday-evening-mass-holy-hour/2026-11-09
ATTACH;FMTTYPE=image/jpeg:https://stroseoflimaparish.org/wp-content/uploads/2024/01/st-rose-of-lima-rc-church-home-bulletin.jpg
END:VEVENT
END:VCALENDAR