BEGIN:VCALENDAR
VERSION:2.0
PRODID:-//St Rose of Lima Church - ECPv6.15.20//NONSGML v1.0//EN
CALSCALE:GREGORIAN
METHOD:PUBLISH
X-WR-CALNAME:St Rose of Lima Church
X-ORIGINAL-URL:https://stroseoflimaparish.org
X-WR-CALDESC:Events for St Rose of Lima Church
REFRESH-INTERVAL;VALUE=DURATION:PT1H
X-Robots-Tag:noindex
X-PUBLISHED-TTL:PT1H
BEGIN:VTIMEZONE
TZID:America/New_York
BEGIN:DAYLIGHT
TZOFFSETFROM:-0500
TZOFFSETTO:-0400
TZNAME:EDT
DTSTART:20250309T070000
END:DAYLIGHT
BEGIN:STANDARD
TZOFFSETFROM:-0400
TZOFFSETTO:-0500
TZNAME:EST
DTSTART:20251102T060000
END:STANDARD
BEGIN:DAYLIGHT
TZOFFSETFROM:-0500
TZOFFSETTO:-0400
TZNAME:EDT
DTSTART:20260308T070000
END:DAYLIGHT
BEGIN:STANDARD
TZOFFSETFROM:-0400
TZOFFSETTO:-0500
TZNAME:EST
DTSTART:20261101T060000
END:STANDARD
BEGIN:DAYLIGHT
TZOFFSETFROM:-0500
TZOFFSETTO:-0400
TZNAME:EDT
DTSTART:20270314T070000
END:DAYLIGHT
BEGIN:STANDARD
TZOFFSETFROM:-0400
TZOFFSETTO:-0500
TZNAME:EST
DTSTART:20271107T060000
END:STANDARD
END:VTIMEZONE
BEGIN:VEVENT
DTSTART;TZID=America/New_York:20260427T190000
DTEND;TZID=America/New_York:20260427T193000
DTSTAMP:20260423T054547
CREATED:20240423T233625Z
LAST-MODIFIED:20260214T200241Z
UID:10002530-1777316400-1777318200@stroseoflimaparish.org
SUMMARY:Weekly Evening Rosary
DESCRIPTION:The Rosary Society along with the Men of Solidarity invite you to join them to pray the rosary on Monday evenings\, in church\, at 7pm.
URL:https://stroseoflimaparish.org/event/weekly-evening-rosary/2026-04-27
END:VEVENT
BEGIN:VEVENT
DTSTART;TZID=America/New_York:20260504T190000
DTEND;TZID=America/New_York:20260504T193000
DTSTAMP:20260423T054547
CREATED:20240423T233625Z
LAST-MODIFIED:20260214T200241Z
UID:10002531-1777921200-1777923000@stroseoflimaparish.org
SUMMARY:Weekly Evening Rosary
DESCRIPTION:The Rosary Society along with the Men of Solidarity invite you to join them to pray the rosary on Monday evenings\, in church\, at 7pm.
URL:https://stroseoflimaparish.org/event/weekly-evening-rosary/2026-05-04
END:VEVENT
BEGIN:VEVENT
DTSTART;TZID=America/New_York:20260511T190000
DTEND;TZID=America/New_York:20260511T193000
DTSTAMP:20260423T054547
CREATED:20240423T233625Z
LAST-MODIFIED:20260214T200241Z
UID:10002532-1778526000-1778527800@stroseoflimaparish.org
SUMMARY:Weekly Evening Rosary
DESCRIPTION:The Rosary Society along with the Men of Solidarity invite you to join them to pray the rosary on Monday evenings\, in church\, at 7pm.
URL:https://stroseoflimaparish.org/event/weekly-evening-rosary/2026-05-11
END:VEVENT
BEGIN:VEVENT
DTSTART;TZID=America/New_York:20260518T190000
DTEND;TZID=America/New_York:20260518T193000
DTSTAMP:20260423T054547
CREATED:20240423T233625Z
LAST-MODIFIED:20260214T200241Z
UID:10002533-1779130800-1779132600@stroseoflimaparish.org
SUMMARY:Weekly Evening Rosary
DESCRIPTION:The Rosary Society along with the Men of Solidarity invite you to join them to pray the rosary on Monday evenings\, in church\, at 7pm.
URL:https://stroseoflimaparish.org/event/weekly-evening-rosary/2026-05-18
END:VEVENT
BEGIN:VEVENT
DTSTART;TZID=America/New_York:20260525T190000
DTEND;TZID=America/New_York:20260525T193000
DTSTAMP:20260423T054547
CREATED:20240423T233625Z
LAST-MODIFIED:20260214T200241Z
UID:10002534-1779735600-1779737400@stroseoflimaparish.org
SUMMARY:Weekly Evening Rosary
DESCRIPTION:The Rosary Society along with the Men of Solidarity invite you to join them to pray the rosary on Monday evenings\, in church\, at 7pm.
URL:https://stroseoflimaparish.org/event/weekly-evening-rosary/2026-05-25
END:VEVENT
BEGIN:VEVENT
DTSTART;TZID=America/New_York:20260601T190000
DTEND;TZID=America/New_York:20260601T193000
DTSTAMP:20260423T054547
CREATED:20240423T233625Z
LAST-MODIFIED:20260214T200241Z
UID:10002535-1780340400-1780342200@stroseoflimaparish.org
SUMMARY:Weekly Evening Rosary
DESCRIPTION:The Rosary Society along with the Men of Solidarity invite you to join them to pray the rosary on Monday evenings\, in church\, at 7pm.
URL:https://stroseoflimaparish.org/event/weekly-evening-rosary/2026-06-01
END:VEVENT
BEGIN:VEVENT
DTSTART;TZID=America/New_York:20260608T190000
DTEND;TZID=America/New_York:20260608T193000
DTSTAMP:20260423T054547
CREATED:20240423T233625Z
LAST-MODIFIED:20260214T200241Z
UID:10002536-1780945200-1780947000@stroseoflimaparish.org
SUMMARY:Weekly Evening Rosary
DESCRIPTION:The Rosary Society along with the Men of Solidarity invite you to join them to pray the rosary on Monday evenings\, in church\, at 7pm.
URL:https://stroseoflimaparish.org/event/weekly-evening-rosary/2026-06-08
END:VEVENT
BEGIN:VEVENT
DTSTART;TZID=America/New_York:20260615T190000
DTEND;TZID=America/New_York:20260615T193000
DTSTAMP:20260423T054547
CREATED:20240423T233625Z
LAST-MODIFIED:20260214T200241Z
UID:10002537-1781550000-1781551800@stroseoflimaparish.org
SUMMARY:Weekly Evening Rosary
DESCRIPTION:The Rosary Society along with the Men of Solidarity invite you to join them to pray the rosary on Monday evenings\, in church\, at 7pm.
URL:https://stroseoflimaparish.org/event/weekly-evening-rosary/2026-06-15
END:VEVENT
BEGIN:VEVENT
DTSTART;TZID=America/New_York:20260622T190000
DTEND;TZID=America/New_York:20260622T193000
DTSTAMP:20260423T054547
CREATED:20240423T233625Z
LAST-MODIFIED:20260214T200241Z
UID:10002538-1782154800-1782156600@stroseoflimaparish.org
SUMMARY:Weekly Evening Rosary
DESCRIPTION:The Rosary Society along with the Men of Solidarity invite you to join them to pray the rosary on Monday evenings\, in church\, at 7pm.
URL:https://stroseoflimaparish.org/event/weekly-evening-rosary/2026-06-22
END:VEVENT
BEGIN:VEVENT
DTSTART;TZID=America/New_York:20260629T190000
DTEND;TZID=America/New_York:20260629T193000
DTSTAMP:20260423T054547
CREATED:20240423T233625Z
LAST-MODIFIED:20260214T200241Z
UID:10002539-1782759600-1782761400@stroseoflimaparish.org
SUMMARY:Weekly Evening Rosary
DESCRIPTION:The Rosary Society along with the Men of Solidarity invite you to join them to pray the rosary on Monday evenings\, in church\, at 7pm.
URL:https://stroseoflimaparish.org/event/weekly-evening-rosary/2026-06-29
END:VEVENT
BEGIN:VEVENT
DTSTART;TZID=America/New_York:20260706T190000
DTEND;TZID=America/New_York:20260706T193000
DTSTAMP:20260423T054547
CREATED:20240423T233625Z
LAST-MODIFIED:20260214T200241Z
UID:10002540-1783364400-1783366200@stroseoflimaparish.org
SUMMARY:Weekly Evening Rosary
DESCRIPTION:The Rosary Society along with the Men of Solidarity invite you to join them to pray the rosary on Monday evenings\, in church\, at 7pm.
URL:https://stroseoflimaparish.org/event/weekly-evening-rosary/2026-07-06
END:VEVENT
BEGIN:VEVENT
DTSTART;TZID=America/New_York:20260713T190000
DTEND;TZID=America/New_York:20260713T193000
DTSTAMP:20260423T054547
CREATED:20240423T233625Z
LAST-MODIFIED:20260214T200241Z
UID:10002541-1783969200-1783971000@stroseoflimaparish.org
SUMMARY:Weekly Evening Rosary
DESCRIPTION:The Rosary Society along with the Men of Solidarity invite you to join them to pray the rosary on Monday evenings\, in church\, at 7pm.
URL:https://stroseoflimaparish.org/event/weekly-evening-rosary/2026-07-13
END:VEVENT
BEGIN:VEVENT
DTSTART;TZID=America/New_York:20260720T190000
DTEND;TZID=America/New_York:20260720T193000
DTSTAMP:20260423T054547
CREATED:20240423T233625Z
LAST-MODIFIED:20260214T200241Z
UID:10002542-1784574000-1784575800@stroseoflimaparish.org
SUMMARY:Weekly Evening Rosary
DESCRIPTION:The Rosary Society along with the Men of Solidarity invite you to join them to pray the rosary on Monday evenings\, in church\, at 7pm.
URL:https://stroseoflimaparish.org/event/weekly-evening-rosary/2026-07-20
END:VEVENT
BEGIN:VEVENT
DTSTART;TZID=America/New_York:20260727T190000
DTEND;TZID=America/New_York:20260727T193000
DTSTAMP:20260423T054547
CREATED:20240423T233625Z
LAST-MODIFIED:20260214T200241Z
UID:10002543-1785178800-1785180600@stroseoflimaparish.org
SUMMARY:Weekly Evening Rosary
DESCRIPTION:The Rosary Society along with the Men of Solidarity invite you to join them to pray the rosary on Monday evenings\, in church\, at 7pm.
URL:https://stroseoflimaparish.org/event/weekly-evening-rosary/2026-07-27
END:VEVENT
BEGIN:VEVENT
DTSTART;TZID=America/New_York:20260803T190000
DTEND;TZID=America/New_York:20260803T193000
DTSTAMP:20260423T054547
CREATED:20240423T233625Z
LAST-MODIFIED:20260214T200241Z
UID:10002544-1785783600-1785785400@stroseoflimaparish.org
SUMMARY:Weekly Evening Rosary
DESCRIPTION:The Rosary Society along with the Men of Solidarity invite you to join them to pray the rosary on Monday evenings\, in church\, at 7pm.
URL:https://stroseoflimaparish.org/event/weekly-evening-rosary/2026-08-03
END:VEVENT
BEGIN:VEVENT
DTSTART;TZID=America/New_York:20260810T190000
DTEND;TZID=America/New_York:20260810T193000
DTSTAMP:20260423T054547
CREATED:20240423T233625Z
LAST-MODIFIED:20260214T200241Z
UID:10002545-1786388400-1786390200@stroseoflimaparish.org
SUMMARY:Weekly Evening Rosary
DESCRIPTION:The Rosary Society along with the Men of Solidarity invite you to join them to pray the rosary on Monday evenings\, in church\, at 7pm.
URL:https://stroseoflimaparish.org/event/weekly-evening-rosary/2026-08-10
END:VEVENT
BEGIN:VEVENT
DTSTART;TZID=America/New_York:20260817T190000
DTEND;TZID=America/New_York:20260817T193000
DTSTAMP:20260423T054547
CREATED:20240423T233625Z
LAST-MODIFIED:20260214T200241Z
UID:10002546-1786993200-1786995000@stroseoflimaparish.org
SUMMARY:Weekly Evening Rosary
DESCRIPTION:The Rosary Society along with the Men of Solidarity invite you to join them to pray the rosary on Monday evenings\, in church\, at 7pm.
URL:https://stroseoflimaparish.org/event/weekly-evening-rosary/2026-08-17
END:VEVENT
BEGIN:VEVENT
DTSTART;TZID=America/New_York:20260824T190000
DTEND;TZID=America/New_York:20260824T193000
DTSTAMP:20260423T054547
CREATED:20240423T233625Z
LAST-MODIFIED:20260214T200241Z
UID:10002547-1787598000-1787599800@stroseoflimaparish.org
SUMMARY:Weekly Evening Rosary
DESCRIPTION:The Rosary Society along with the Men of Solidarity invite you to join them to pray the rosary on Monday evenings\, in church\, at 7pm.
URL:https://stroseoflimaparish.org/event/weekly-evening-rosary/2026-08-24
END:VEVENT
BEGIN:VEVENT
DTSTART;TZID=America/New_York:20260831T190000
DTEND;TZID=America/New_York:20260831T193000
DTSTAMP:20260423T054547
CREATED:20240423T233625Z
LAST-MODIFIED:20260214T200241Z
UID:10002548-1788202800-1788204600@stroseoflimaparish.org
SUMMARY:Weekly Evening Rosary
DESCRIPTION:The Rosary Society along with the Men of Solidarity invite you to join them to pray the rosary on Monday evenings\, in church\, at 7pm.
URL:https://stroseoflimaparish.org/event/weekly-evening-rosary/2026-08-31
END:VEVENT
BEGIN:VEVENT
DTSTART;TZID=America/New_York:20260907T190000
DTEND;TZID=America/New_York:20260907T193000
DTSTAMP:20260423T054547
CREATED:20240423T233625Z
LAST-MODIFIED:20260214T200241Z
UID:10002549-1788807600-1788809400@stroseoflimaparish.org
SUMMARY:Weekly Evening Rosary
DESCRIPTION:The Rosary Society along with the Men of Solidarity invite you to join them to pray the rosary on Monday evenings\, in church\, at 7pm.
URL:https://stroseoflimaparish.org/event/weekly-evening-rosary/2026-09-07
END:VEVENT
BEGIN:VEVENT
DTSTART;TZID=America/New_York:20260914T190000
DTEND;TZID=America/New_York:20260914T193000
DTSTAMP:20260423T054547
CREATED:20240423T233625Z
LAST-MODIFIED:20260214T200241Z
UID:10002550-1789412400-1789414200@stroseoflimaparish.org
SUMMARY:Weekly Evening Rosary
DESCRIPTION:The Rosary Society along with the Men of Solidarity invite you to join them to pray the rosary on Monday evenings\, in church\, at 7pm.
URL:https://stroseoflimaparish.org/event/weekly-evening-rosary/2026-09-14
END:VEVENT
BEGIN:VEVENT
DTSTART;TZID=America/New_York:20260921T190000
DTEND;TZID=America/New_York:20260921T193000
DTSTAMP:20260423T054547
CREATED:20240423T233625Z
LAST-MODIFIED:20260214T200241Z
UID:10002551-1790017200-1790019000@stroseoflimaparish.org
SUMMARY:Weekly Evening Rosary
DESCRIPTION:The Rosary Society along with the Men of Solidarity invite you to join them to pray the rosary on Monday evenings\, in church\, at 7pm.
URL:https://stroseoflimaparish.org/event/weekly-evening-rosary/2026-09-21
END:VEVENT
BEGIN:VEVENT
DTSTART;TZID=America/New_York:20260928T190000
DTEND;TZID=America/New_York:20260928T193000
DTSTAMP:20260423T054547
CREATED:20240423T233625Z
LAST-MODIFIED:20260214T200241Z
UID:10002552-1790622000-1790623800@stroseoflimaparish.org
SUMMARY:Weekly Evening Rosary
DESCRIPTION:The Rosary Society along with the Men of Solidarity invite you to join them to pray the rosary on Monday evenings\, in church\, at 7pm.
URL:https://stroseoflimaparish.org/event/weekly-evening-rosary/2026-09-28
END:VEVENT
BEGIN:VEVENT
DTSTART;TZID=America/New_York:20261005T190000
DTEND;TZID=America/New_York:20261005T193000
DTSTAMP:20260423T054547
CREATED:20240423T233625Z
LAST-MODIFIED:20260214T200241Z
UID:10002553-1791226800-1791228600@stroseoflimaparish.org
SUMMARY:Weekly Evening Rosary
DESCRIPTION:The Rosary Society along with the Men of Solidarity invite you to join them to pray the rosary on Monday evenings\, in church\, at 7pm.
URL:https://stroseoflimaparish.org/event/weekly-evening-rosary/2026-10-05
END:VEVENT
BEGIN:VEVENT
DTSTART;TZID=America/New_York:20261012T190000
DTEND;TZID=America/New_York:20261012T193000
DTSTAMP:20260423T054547
CREATED:20240423T233625Z
LAST-MODIFIED:20260214T200241Z
UID:10002554-1791831600-1791833400@stroseoflimaparish.org
SUMMARY:Weekly Evening Rosary
DESCRIPTION:The Rosary Society along with the Men of Solidarity invite you to join them to pray the rosary on Monday evenings\, in church\, at 7pm.
URL:https://stroseoflimaparish.org/event/weekly-evening-rosary/2026-10-12
END:VEVENT
BEGIN:VEVENT
DTSTART;TZID=America/New_York:20261019T190000
DTEND;TZID=America/New_York:20261019T193000
DTSTAMP:20260423T054547
CREATED:20240423T233625Z
LAST-MODIFIED:20260214T200241Z
UID:10002555-1792436400-1792438200@stroseoflimaparish.org
SUMMARY:Weekly Evening Rosary
DESCRIPTION:The Rosary Society along with the Men of Solidarity invite you to join them to pray the rosary on Monday evenings\, in church\, at 7pm.
URL:https://stroseoflimaparish.org/event/weekly-evening-rosary/2026-10-19
END:VEVENT
BEGIN:VEVENT
DTSTART;TZID=America/New_York:20261026T190000
DTEND;TZID=America/New_York:20261026T193000
DTSTAMP:20260423T054547
CREATED:20240423T233625Z
LAST-MODIFIED:20260214T200241Z
UID:10002556-1793041200-1793043000@stroseoflimaparish.org
SUMMARY:Weekly Evening Rosary
DESCRIPTION:The Rosary Society along with the Men of Solidarity invite you to join them to pray the rosary on Monday evenings\, in church\, at 7pm.
URL:https://stroseoflimaparish.org/event/weekly-evening-rosary/2026-10-26
END:VEVENT
BEGIN:VEVENT
DTSTART;TZID=America/New_York:20261102T190000
DTEND;TZID=America/New_York:20261102T193000
DTSTAMP:20260423T054547
CREATED:20240423T233625Z
LAST-MODIFIED:20260214T200241Z
UID:10002557-1793646000-1793647800@stroseoflimaparish.org
SUMMARY:Weekly Evening Rosary
DESCRIPTION:The Rosary Society along with the Men of Solidarity invite you to join them to pray the rosary on Monday evenings\, in church\, at 7pm.
URL:https://stroseoflimaparish.org/event/weekly-evening-rosary/2026-11-02
END:VEVENT
BEGIN:VEVENT
DTSTART;TZID=America/New_York:20261109T190000
DTEND;TZID=America/New_York:20261109T193000
DTSTAMP:20260423T054547
CREATED:20240423T233625Z
LAST-MODIFIED:20260214T200241Z
UID:10002558-1794250800-1794252600@stroseoflimaparish.org
SUMMARY:Weekly Evening Rosary
DESCRIPTION:The Rosary Society along with the Men of Solidarity invite you to join them to pray the rosary on Monday evenings\, in church\, at 7pm.
URL:https://stroseoflimaparish.org/event/weekly-evening-rosary/2026-11-09
END:VEVENT
BEGIN:VEVENT
DTSTART;TZID=America/New_York:20261116T190000
DTEND;TZID=America/New_York:20261116T193000
DTSTAMP:20260423T054547
CREATED:20240423T233625Z
LAST-MODIFIED:20260214T200241Z
UID:10002559-1794855600-1794857400@stroseoflimaparish.org
SUMMARY:Weekly Evening Rosary
DESCRIPTION:The Rosary Society along with the Men of Solidarity invite you to join them to pray the rosary on Monday evenings\, in church\, at 7pm.
URL:https://stroseoflimaparish.org/event/weekly-evening-rosary/2026-11-16
END:VEVENT
END:VCALENDAR